BEGIN:VCALENDAR
PRODID:NingEventWidget-v1
VERSION:2.0
METHOD:PUBLISH
BEGIN:VTIMEZONE
TZID:Europe/London
X-LIC-LOCATION:Europe/London
BEGIN:DAYLIGHT
TZOFFSETFROM:+0000
TZOFFSETTO:+0100
TZNAME:BST
DTSTART:19700329T010000
RRULE:FREQ=YEARLY;BYMONTH=3;BYDAY=-1SU
END:DAYLIGHT
BEGIN:STANDARD
TZOFFSETFROM:+0100
TZOFFSETTO:+0000
TZNAME:GMT
DTSTART:19701025T020000
RRULE:FREQ=YEARLY;BYMONTH=10;BYDAY=-1SU
END:STANDARD
END:VTIMEZONE
BEGIN:VEVENT
UID:6278630:Event:133009
DTSTAMP:20260421T161959Z
SUMMARY:100 Years of Violin Sonatas
DESCRIPTION:Hartmut Richter, violin, and Stephen Baron, piano play fou
 r violin sonatas by Bach, Mozart, Beethoven and Schubert. Informally i
 ntroduced, this music is for everyone from the age of 7 upwards. \nTi
 ckets from billetto.co.uk (100 Years of violin sonatas)\nAdults advanc
 e £10, door £12; concessions £8/£9; \nchild £4/£5 (2nd/3rd chil
 d free)\n\nFor more information visit https://bowesandbounds.org/event
 s/100-years-of-violin-sonatas
DTSTART;TZID=Europe/London:20181104T160000
DTEND;TZID=Europe/London:20181104T170000
CATEGORIES:classical, "music/kids"
LOCATION:Highgate United Reformed Church N6 6BA
WEBSITE:
URL:
CONTACT:
ORGANIZER;CN="Stephen Baron":https://bowesandbounds.org/profile/Stephe
 nBaron
ATTACH;FMTTYPE="image/jpeg":
ATTENDEE;ROLE=REQ-PARTICIPANT;PARTSTAT=ACCEPTED;RSVP=TRUE;CN="Stephen 
 Baron":https://bowesandbounds.org/profile/StephenBaron
END:VEVENT
END:VCALENDAR
