BEGIN:VCALENDAR
PRODID:NingEventWidget-v1
VERSION:2.0
METHOD:PUBLISH
BEGIN:VTIMEZONE
TZID:Europe/London
X-LIC-LOCATION:Europe/London
BEGIN:DAYLIGHT
TZOFFSETFROM:+0000
TZOFFSETTO:+0100
TZNAME:BST
DTSTART:19700329T010000
RRULE:FREQ=YEARLY;BYMONTH=3;BYDAY=-1SU
END:DAYLIGHT
BEGIN:STANDARD
TZOFFSETFROM:+0100
TZOFFSETTO:+0000
TZNAME:GMT
DTSTART:19701025T020000
RRULE:FREQ=YEARLY;BYMONTH=10;BYDAY=-1SU
END:STANDARD
END:VTIMEZONE
BEGIN:VEVENT
UID:6278630:Event:236308
DTSTAMP:20260420T185631Z
SUMMARY:2 Day Filmmaking Summer School in Bounds Green
DESCRIPTION:Tuesday 24th & Wednesday 25th \nAges 7+\nShaftesbury Hall
 , Bowes Park\nN11, 2QN\n \nIs your child an aspiring filmmaker? Then 
 join our filmmaking summer school!\nWorking together as a film crew yo
 ung people will perform in all roles (Camera, sound, acting, directing
 , scriptwriting) to make their very own short film.\n \nThe course wi
 ll cover:\n\nshot types and camera angles\ncamera movements\nstoryboar
 ding\nscriptwriting\nacting for screen\n\nParents are invited to a sho
 rt screening of the unedited footage at the end of the course.\nTo boo
 k a space click here:  https://www.animatingeducation.co.uk/product-
 page/filmmaking-summer\n10% off with code SIBLING10 when booking for s
 iblings only. \n\nFor more information visit https://bowesandbounds.o
 rg/events/2-day-filmmaking-summer-school-in-bounds-green
DTSTART;TZID=Europe/London:20210824T090000
DTEND;TZID=Europe/London:20210825T160000
CATEGORIES:summer, filmmaking, camp
LOCATION:Shaftesbury Hall
WEBSITE:https://www.google.com/maps/place/Herbert+Rd,+London+N11+2QN/@
 51.6070645,-0.1235507,17z/data=!3m1!4b1!4m5!3m4!1s0x4876196657a99e19:0
 x447f9719e61c8e88!8m2!3d51.6072055!4d-0.1213574
URL:https://www.google.com/maps/place/Herbert+Rd,+London+N11+2QN/@51.6
 070645,-0.1235507,17z/data=!3m1!4b1!4m5!3m4!1s0x4876196657a99e19:0x447
 f9719e61c8e88!8m2!3d51.6072055!4d-0.1213574
CONTACT:07958710351
ORGANIZER;CN="Lucy Whitehead":https://bowesandbounds.org/profile/LucyW
 hitehead
ATTACH;FMTTYPE="image/jpeg":https://storage.ning.com/topology/rest/1.0
 /file/get/9324943669?profile=original
ATTENDEE;ROLE=REQ-PARTICIPANT;PARTSTAT=ACCEPTED;RSVP=TRUE;CN="Lucy Whi
 tehead":https://bowesandbounds.org/profile/LucyWhitehead
END:VEVENT
END:VCALENDAR
