BEGIN:VCALENDAR
PRODID:NingEventWidget-v1
VERSION:2.0
METHOD:PUBLISH
BEGIN:VTIMEZONE
TZID:Europe/London
X-LIC-LOCATION:Europe/London
BEGIN:DAYLIGHT
TZOFFSETFROM:+0000
TZOFFSETTO:+0100
TZNAME:BST
DTSTART:19700329T010000
RRULE:FREQ=YEARLY;BYMONTH=3;BYDAY=-1SU
END:DAYLIGHT
BEGIN:STANDARD
TZOFFSETFROM:+0100
TZOFFSETTO:+0000
TZNAME:GMT
DTSTART:19701025T020000
RRULE:FREQ=YEARLY;BYMONTH=10;BYDAY=-1SU
END:STANDARD
END:VTIMEZONE
BEGIN:VEVENT
UID:6278630:Event:63186
DTSTAMP:20260425T211828Z
SUMMARY:5K Pink Family Walk
DESCRIPTION:Families (daddies too) are invited to dress in pink and j
 oin the 5K Pink Family Walk fundraiser Free kids activities: badge ma
 king, colouring, cake decorating, face painting (under 5 only) Free r
 efreshment (participants only) Participation fee £5 for adults, £3 
 for young person (5-17 years), children under 5 go free.Register your
  interest and receive an info pack and a sponsorship form (optional), 
 email pinkfamilywalk@gmail.com If you want to attend but do not wish 
 to walk the entry fee is £2/person (free for under 5)\n\nFor more inf
 ormation visit https://bowesandbounds.org/events/5k-pink-family-walk
DTSTART;TZID=Europe/London:20130915T100000
DTEND;TZID=Europe/London:20130915T140000
CATEGORIES:fundraiser
LOCATION:De Bohun Primary School (Green Road Southgate N14 4AD)
WEBSITE:http://uk.virginmoneygiving.com/team/5kpinkfamilywalk
URL:http://uk.virginmoneygiving.com/team/5kpinkfamilywalk
CONTACT:
ORGANIZER;CN=Southgate:https://bowesandbounds.org/profile/Southgate
ATTACH;FMTTYPE="image/jpeg":http://storage.ning.com/topology/rest/1.0/
 file/get/2287251733?profile=original
ATTENDEE;ROLE=REQ-PARTICIPANT;PARTSTAT=ACCEPTED;RSVP=TRUE;CN=Southgate
 :https://bowesandbounds.org/profile/Southgate
END:VEVENT
END:VCALENDAR
