BEGIN:VCALENDAR
PRODID:NingEventWidget-v1
VERSION:2.0
METHOD:PUBLISH
BEGIN:VTIMEZONE
TZID:Europe/London
X-LIC-LOCATION:Europe/London
BEGIN:DAYLIGHT
TZOFFSETFROM:+0000
TZOFFSETTO:+0100
TZNAME:BST
DTSTART:19700329T010000
RRULE:FREQ=YEARLY;BYMONTH=3;BYDAY=-1SU
END:DAYLIGHT
BEGIN:STANDARD
TZOFFSETFROM:+0100
TZOFFSETTO:+0000
TZNAME:GMT
DTSTART:19701025T020000
RRULE:FREQ=YEARLY;BYMONTH=10;BYDAY=-1SU
END:STANDARD
END:VTIMEZONE
BEGIN:VEVENT
UID:6278630:Event:62528
DTSTAMP:20260421T045006Z
SUMMARY:70’s & 80’s Fancy Dress Fundraising Evening
DESCRIPTION:Come dressed in your 70’s and 80’s outfits and help us
  raise funds. Enjoy a fun filled evening of  70’s and 80’s DJ’d
   Music,  Fancy Dress Competition with genuine prizes,  Dancing,  
 Karaoke Fun and Raffle. Refreshments will be on sale.  An event not t
 o be missed!  \nFancy Dress contestants are required to complete an e
 ntry form which is available on request. Karaoke Fun participants simp
 ly choose a song from our 70’s and 80’s karaoke song list.   Spe
 cial requests may be accommodated if received two weeks prior to event
 .\nNo alcohol served or allowed on the premises.\n\nTickets in Advance
 : Adult £10, Over 60’s & Students £8, Child 16 & under £3, Family
  £22\n\n    At the Door £12, Over 60’s and Students £10, Child
  £3, Family £22\n\n\nTickets available from TaB Centre Reception Des
 k\n\n\nFor more information visit https://bowesandbounds.org/events/70
 -s-80-s-fancy-dress-fundraising-evening
DTSTART;TZID=Europe/London:20130727T180000
DTEND;TZID=Europe/London:20130727T230000
CATEGORIES:fundraiser
LOCATION:TaB Methodist Church & Community Centre
WEBSITE:http://www.trinityatbowes.co.uk
URL:http://www.trinityatbowes.co.uk
CONTACT:020 8888 2797
ORGANIZER:TAB Community Centre
ATTACH;FMTTYPE="image/jpeg":http://storage.ning.com/topology/rest/1.0/
 file/get/2287252011?profile=original
ATTENDEE;ROLE=REQ-PARTICIPANT;PARTSTAT=ACCEPTED;RSVP=TRUE;CN=EyeInTheS
 ky:https://bowesandbounds.org/profile/EyeInTheSky
END:VEVENT
END:VCALENDAR
