BEGIN:VCALENDAR
PRODID:NingEventWidget-v1
VERSION:2.0
METHOD:PUBLISH
BEGIN:VTIMEZONE
TZID:Europe/London
X-LIC-LOCATION:Europe/London
BEGIN:DAYLIGHT
TZOFFSETFROM:+0000
TZOFFSETTO:+0100
TZNAME:BST
DTSTART:19700329T010000
RRULE:FREQ=YEARLY;BYMONTH=3;BYDAY=-1SU
END:DAYLIGHT
BEGIN:STANDARD
TZOFFSETFROM:+0100
TZOFFSETTO:+0000
TZNAME:GMT
DTSTART:19701025T020000
RRULE:FREQ=YEARLY;BYMONTH=10;BYDAY=-1SU
END:STANDARD
END:VTIMEZONE
BEGIN:VEVENT
UID:6278630:Event:126319
DTSTAMP:20260424T212606Z
SUMMARY:A BRIEF HISTORY OF HORNSEY VILLAGE
DESCRIPTION:HORNSEY HISTORICAL SOCIETY\n@\nST. MARY’S TOWER HORNSEY\
 nYou are invited to an interactive workshop\n“A BRIEF HISTORY OF HOR
 NSEY VILLAGE”\n\n suitable for everyone aged 8 to 80 who is interes
 ted in discovering more about the history of our area.\n 2 – 3.30 p
 m\nSUNDAY 10TH SEPTEMBER 2017\nSt. Mary’s Tower\nHornsey High Street
  N8\n(opposite Great Northern Railway Tavern)\n No charge but donatio
 n to the Tower Fund requested.\n \n\nFor more information visit https
 ://bowesandbounds.org/events/a-brief-history-of-hornsey-village
DTSTART;TZID=Europe/London:20170910T140000
DTEND;TZID=Europe/London:20170910T153000
CATEGORIES:interactive, history, workshop
LOCATION:HORNSEY CHURCH TOWER
WEBSITE:
URL:
CONTACT:
ORGANIZER:Jennifer Bell and Janet Owen
ATTACH;FMTTYPE="image/jpeg":
ATTENDEE;ROLE=REQ-PARTICIPANT;PARTSTAT=ACCEPTED;RSVP=TRUE;CN="Lesley R
 amm":https://bowesandbounds.org/profile/LesleyRamm
END:VEVENT
END:VCALENDAR
