BEGIN:VCALENDAR
PRODID:NingEventWidget-v1
VERSION:2.0
METHOD:PUBLISH
BEGIN:VTIMEZONE
TZID:Europe/London
X-LIC-LOCATION:Europe/London
BEGIN:DAYLIGHT
TZOFFSETFROM:+0000
TZOFFSETTO:+0100
TZNAME:BST
DTSTART:19700329T010000
RRULE:FREQ=YEARLY;BYMONTH=3;BYDAY=-1SU
END:DAYLIGHT
BEGIN:STANDARD
TZOFFSETFROM:+0100
TZOFFSETTO:+0000
TZNAME:GMT
DTSTART:19701025T020000
RRULE:FREQ=YEARLY;BYMONTH=10;BYDAY=-1SU
END:STANDARD
END:VTIMEZONE
BEGIN:VEVENT
UID:6278630:Event:125408
DTSTAMP:20260424T224121Z
SUMMARY:“A BRIEF HISTORY OF HORNSEY”
DESCRIPTION:                   HORNSEY HISTORICAL SOCIETY @
 \nST. MARY’S TOWER HORNSEY\nYou are invited to an interactive worksh
 op\n“A BRIEF HISTORY OF HORNSEY”\n\n suitable for everyone aged 8
  to 80 who is interested in discovering more about the history of our 
 area.\n2 – 3 pm Saturday 22nd July 2017\nSt. Mary’s Tower Hornse
 y High Street N8\n(opposite Great Northern Railway Tavern)\n No charg
 e but donation to the Tower Fund requested.\n -o-\n \n\nFor more inf
 ormation visit https://bowesandbounds.org/events/a-brief-history-of-ho
 rnsey
DTSTART;TZID=Europe/London:20170722T140000
DTEND;TZID=Europe/London:20170722T150000
CATEGORIES:history, workshop
LOCATION:St. Mary’s Tower Hornsey High Street N8
WEBSITE:
URL:
CONTACT:
ORGANIZER;CN="Lesley Ramm":https://bowesandbounds.org/profile/LesleyRa
 mm
ATTACH;FMTTYPE="image/jpeg":http://storage.ning.com/topology/rest/1.0/
 file/get/2287319765?profile=original
ATTENDEE;ROLE=REQ-PARTICIPANT;PARTSTAT=ACCEPTED;RSVP=TRUE;CN="Lesley R
 amm":https://bowesandbounds.org/profile/LesleyRamm
END:VEVENT
END:VCALENDAR
