BEGIN:VCALENDAR
PRODID:NingEventWidget-v1
VERSION:2.0
METHOD:PUBLISH
BEGIN:VTIMEZONE
TZID:Europe/London
X-LIC-LOCATION:Europe/London
BEGIN:DAYLIGHT
TZOFFSETFROM:+0000
TZOFFSETTO:+0100
TZNAME:BST
DTSTART:19700329T010000
RRULE:FREQ=YEARLY;BYMONTH=3;BYDAY=-1SU
END:DAYLIGHT
BEGIN:STANDARD
TZOFFSETFROM:+0100
TZOFFSETTO:+0000
TZNAME:GMT
DTSTART:19701025T020000
RRULE:FREQ=YEARLY;BYMONTH=10;BYDAY=-1SU
END:STANDARD
END:VTIMEZONE
BEGIN:VEVENT
UID:6278630:Event:136761
DTSTAMP:20260422T125822Z
SUMMARY:A Day of Kites and Lights - Windrush Day 2019
DESCRIPTION:Drop in for an afternoon of kite-making, music, Caribbean 
 games, board games and Caribbean refreshments to celebrate Windrush Da
 y 2019. There will be music from Haringey Young Musicians' Steel Pan B
 and and local Calypsonian John McAnuff. Help make a giant community ki
 te or make your own smaller kite to take home.\n\nFor more information
  visit https://bowesandbounds.org/events/a-day-of-kites-and-lights-win
 drush-day-2019
DTSTART;TZID=Europe/London:20190622T000000
DTEND;TZID=Europe/London:20190622T170000
CATEGORIES:"children's activities"
LOCATION:Bruce Castle Museum
WEBSITE:http://haringey.gov.uk/brucecastlemuseum
URL:http://haringey.gov.uk/brucecastlemuseum
CONTACT:020 8808 8772
ORGANIZER:Deborah Hedgecock and Clare Stephens
ATTACH;FMTTYPE="image/jpeg":https://storage.ning.com/topology/rest/1.0
 /file/get/2976128260?profile=original
ATTENDEE;ROLE=REQ-PARTICIPANT;PARTSTAT=ACCEPTED;RSVP=TRUE;CN="Mark Wel
 ls":https://bowesandbounds.org/profile/MarkWells
END:VEVENT
END:VCALENDAR
