BEGIN:VCALENDAR
PRODID:NingEventWidget-v1
VERSION:2.0
METHOD:PUBLISH
BEGIN:VTIMEZONE
TZID:Europe/London
X-LIC-LOCATION:Europe/London
BEGIN:DAYLIGHT
TZOFFSETFROM:+0000
TZOFFSETTO:+0100
TZNAME:BST
DTSTART:19700329T010000
RRULE:FREQ=YEARLY;BYMONTH=3;BYDAY=-1SU
END:DAYLIGHT
BEGIN:STANDARD
TZOFFSETFROM:+0100
TZOFFSETTO:+0000
TZNAME:GMT
DTSTART:19701025T020000
RRULE:FREQ=YEARLY;BYMONTH=10;BYDAY=-1SU
END:STANDARD
END:VTIMEZONE
BEGIN:VEVENT
UID:6278630:Event:35917
DTSTAMP:20260420T114320Z
SUMMARY:A Film From The Archives: Beauty and the Borough Muswell Hill 
 and Hornsey
DESCRIPTION:With recently rediscovered digitised film this event will 
 take a look at Hornsey and Muswell Hill in the 1950s.\nDoors open at 1
 2noon for refreshments. Free admission. Bring your lunch. Talks begin 
 at 12.15pm.\n Supported by The Friends of Bruce Castle\nLordship Lane 
  London N17 8NU\n\nFor more information visit https://bowesandbounds.o
 rg/events/a-film-from-the-archives-beauty-and-the-borough-muswell-hill
 -and
DTSTART;TZID=Europe/London:20120326T121500
DTEND;TZID=Europe/London:20120326T133000
CATEGORIES:film, screening
LOCATION:Bruce Castle Museum
WEBSITE:http://www.haringey.gov.uk/index/community_and_leisure/time_ou
 t_in_haringey/visiting_haringey/places_to_visit/brucecastlemuseum.htm#
 howtogettorucecastle
URL:http://www.haringey.gov.uk/index/community_and_leisure/time_out_in
 _haringey/visiting_haringey/places_to_visit/brucecastlemuseum.htm#howt
 ogettorucecastle
CONTACT:020 8808 8772
ORGANIZER:
ATTACH;FMTTYPE="image/jpeg":http://storage.ning.com/topology/rest/1.0/
 file/get/2287229249?profile=original
ATTENDEE;ROLE=REQ-PARTICIPANT;PARTSTAT=ACCEPTED;RSVP=TRUE;CN=Administr
 ator:https://bowesandbounds.org/profile/Administrator
END:VEVENT
END:VCALENDAR
