BEGIN:VCALENDAR
PRODID:NingEventWidget-v1
VERSION:2.0
METHOD:PUBLISH
BEGIN:VTIMEZONE
TZID:Europe/London
X-LIC-LOCATION:Europe/London
BEGIN:DAYLIGHT
TZOFFSETFROM:+0000
TZOFFSETTO:+0100
TZNAME:BST
DTSTART:19700329T010000
RRULE:FREQ=YEARLY;BYMONTH=3;BYDAY=-1SU
END:DAYLIGHT
BEGIN:STANDARD
TZOFFSETFROM:+0100
TZOFFSETTO:+0000
TZNAME:GMT
DTSTART:19701025T020000
RRULE:FREQ=YEARLY;BYMONTH=10;BYDAY=-1SU
END:STANDARD
END:VTIMEZONE
BEGIN:VEVENT
UID:6278630:Event:246782
DTSTAMP:20260419T233133Z
SUMMARY:DRESSMAKING THE NEXT STEP: 2 WEEK COURSE Thursdays 29th Feb &a
 mp; 7th March, 7:00-9:00pm
DESCRIPTION:Book both these classes here for 10% less than booking ind
 ividually. Or you can book any of the sessions individually if you pre
 fer.\nThursday 29th Feb 7-9pm - Pockets. We will cover a variety of po
 ckets: Curved or Slash Shaped Inset Pocket, Side Seam/ Inseam Pocket &
  Patch Pockets.\nThursday 7th March 7-9pm - Zips. In this workshop Nad
 ira will explain and demonstrate the different ways to insert a variet
 y of zips for different garments\nJoin us at Stitch with our amazing s
 eamstress Nadira Dean and take your sewing to the next step.\nDoes the
  thought of sewing beyond that beginners pattern scare you? Do you avo
 id taking the next challenging step with tops and dresses you really w
 ant because you are confused about how to do those finishing seams or 
 how to correctly insert those pockets or zips?\nIn these workshops, Na
 dira will explain and demonstrate the different ways to insert a varie
 ty of zips and pockets for different garments. She will cover finishin
 g seams for different fabrics that work for different fabrics to help 
 you to feel confident to take it to the next step. You do not need to 
 bring anything except a notebook if you wish.\nThis is a hands on work
 shop where you will get to have a go at all the different types of Poc
 kets, Zips and Seams on our sewing machine.\nThis is not a beginners s
 ewing class and you must be proficient on a machine in order to get th
 e best out of this workshop.\nWhat is included:\nAll materials and equ
 ipment including the use of our machines and fabric.\nTutorial on how 
 to do each technique.\nSewing the samples.\nA very creative and encour
 aging environment.\nWe will provide refreshments and biscuits!\nDATE: 
 Thursday 29th Feb & 7th March 7:00-9:00pm  COSTS: £90.00\nLINK: http
 s://www.stitch.org.uk/shop/DRESSMAKING-THE-NEXT-STEP-2-WEEK-COURSE-Thu
 rsdays-29th-Feb-&-7th-March-7-00-9-00pm-p626494536  SIZE: 6 people max
 imum. Individual attention assured.  LOCATION: 2 Hazelwood Lane, Palme
 rs Green, London, N13 5EX\nHope to see you in Stitch soon and join us 
 for this easy sleevey class!\nThe Stitch N13 Team xxx\n\n\nFor more in
 formation visit https://bowesandbounds.org/events/a-href-https-www-sti
 tch-org-uk-shop-dressmaking-the-next-step-2
DTSTART;TZID=Europe/London:20240229T190000
DTEND;TZID=Europe/London:20240229T210000
CATEGORIES:sewing, "workshop!"
LOCATION:Stitch! Crafts and Classes
WEBSITE:https://www.stitch.org.uk/shop/DRESSMAKING-THE-NEXT-STEP-2-WEE
 K-COURSE-Thursdays-29th-Feb-&amp;amp;amp;-7th-March-7-00-9-00pm-p62649
 4536
URL:https://www.stitch.org.uk/shop/DRESSMAKING-THE-NEXT-STEP-2-WEEK-CO
 URSE-Thursdays-29th-Feb-&amp;amp;amp;-7th-March-7-00-9-00pm-p626494536
CONTACT:07903 614726
ORGANIZER;CN="Suzanne Kelly":https://bowesandbounds.org/profile/Suzann
 eKelly
ATTACH;FMTTYPE="image/jpeg":https://storage.ning.com/topology/rest/1.0
 /file/get/12385756101?profile=original
ATTENDEE;ROLE=REQ-PARTICIPANT;PARTSTAT=ACCEPTED;RSVP=TRUE;CN="Suzanne 
 Kelly":https://bowesandbounds.org/profile/SuzanneKelly
END:VEVENT
END:VCALENDAR
