BEGIN:VCALENDAR
PRODID:NingEventWidget-v1
VERSION:2.0
METHOD:PUBLISH
BEGIN:VTIMEZONE
TZID:Europe/London
X-LIC-LOCATION:Europe/London
BEGIN:DAYLIGHT
TZOFFSETFROM:+0000
TZOFFSETTO:+0100
TZNAME:BST
DTSTART:19700329T010000
RRULE:FREQ=YEARLY;BYMONTH=3;BYDAY=-1SU
END:DAYLIGHT
BEGIN:STANDARD
TZOFFSETFROM:+0100
TZOFFSETTO:+0000
TZNAME:GMT
DTSTART:19701025T020000
RRULE:FREQ=YEARLY;BYMONTH=10;BYDAY=-1SU
END:STANDARD
END:VTIMEZONE
BEGIN:VEVENT
UID:6278630:Event:125815
DTSTAMP:20260426T031004Z
SUMMARY:\"A Night at the Opera\": Friday 15 September, 7.30 p.m.
DESCRIPTION:Bowes Park Community AssociationÂ and the North LondonÂ Sa
 maritans invite you to 'A Night at The Opera' performed by Classical E
 ncounters, with professional opera singers, Sally-Ann Shepherdson (sop
 rano) and Trevor Alexander (baritone).  Audience participation and sin
 g-alongs at Bounds Green Bowls and Tennis Club, Goring Road (N11). Bri
 ng a picnic and enjoy your very own Glyndebourne-style opera event. Th
 e concert will be indoors with tables and chairs provided. Ample parki
 ng space available.  Funds raised will go directly to the North London
  Samaritans, for the renovation of Shaftesbury Hall (the Tin Tabernacl
 e) on Herbert Road, London N11.Â   Tickets: Â£15 - purchase from hereÂ
  https://www.goldengiving.com/event/a-night-at-the-opera  For those wh
 o purchase 8 tickets, we're offering a furtherÂ 2 complimentary ticket
 s to complete your table of 10. We'll be in touch by email to confirm 
 this following your purchase.\n\nFor more information visit https://bo
 wesandbounds.org/events/a-night-at-the-opera-friday-15-september-7-30-
 p-m
DTSTART;TZID=Europe/London:20170915T193000
DTEND;TZID=Europe/London:20170915T230000
CATEGORIES:fundraiser
LOCATION:Bowls and Tennis Club, Goring Road`
WEBSITE:
URL:
CONTACT:
ORGANIZER;CN="Joanna Burke":https://bowesandbounds.org/profile/JoannaB
 urke
ATTACH;FMTTYPE="image/jpeg":http://storage.ning.com/topology/rest/1.0/
 file/get/2287319335?profile=original
ATTENDEE;ROLE=REQ-PARTICIPANT;PARTSTAT=ACCEPTED;RSVP=TRUE;CN="Joanna B
 urke":https://bowesandbounds.org/profile/JoannaBurke
END:VEVENT
END:VCALENDAR
