BEGIN:VCALENDAR
PRODID:NingEventWidget-v1
VERSION:2.0
METHOD:PUBLISH
BEGIN:VTIMEZONE
TZID:Europe/London
X-LIC-LOCATION:Europe/London
BEGIN:DAYLIGHT
TZOFFSETFROM:+0000
TZOFFSETTO:+0100
TZNAME:BST
DTSTART:19700329T010000
RRULE:FREQ=YEARLY;BYMONTH=3;BYDAY=-1SU
END:DAYLIGHT
BEGIN:STANDARD
TZOFFSETFROM:+0100
TZOFFSETTO:+0000
TZNAME:GMT
DTSTART:19701025T020000
RRULE:FREQ=YEARLY;BYMONTH=10;BYDAY=-1SU
END:STANDARD
END:VTIMEZONE
BEGIN:VEVENT
UID:6278630:Event:250591
DTSTAMP:20260423T184858Z
SUMMARY:A Spider Walk led by Edward Milner
DESCRIPTION:Edward Milner will lead us on a look around the park for s
 piders. He is an expert on both spiders (official recorder for Middles
 ex) and trees!  Pictured is a flower crabÂ spider seen earlier this ye
 arÂ in the park.Â   Please reply to AllyParkN10@gmail.com saying how m
 any adults and children are coming and we will send you meeting place 
 instructions.  Stephen Middleton  Any other questions - pleaseÂ emailÂ
  us.\n\nFor more information visit https://bowesandbounds.org/events/a
 -spider-walk-led-by-edward-milner
DTSTART;TZID=Europe/London:20250531T103000
DTEND;TZID=Europe/London:20250531T123000
CATEGORIES:spider
LOCATION:Alexandra Park
WEBSITE:http://www.friendsofalexandrapark.org
URL:http://www.friendsofalexandrapark.org
CONTACT:
ORGANIZER;CN="Stephen Middleton":https://bowesandbounds.org/profile/St
 ephenMiddleton
ATTACH;FMTTYPE="image/jpeg":https://storage.ning.com/topology/rest/1.0
 /file/get/13565862063?profile=original
ATTENDEE;ROLE=REQ-PARTICIPANT;PARTSTAT=ACCEPTED;RSVP=TRUE;CN="Stephen 
 Middleton":https://bowesandbounds.org/profile/StephenMiddleton
END:VEVENT
END:VCALENDAR
