BEGIN:VCALENDAR
PRODID:NingEventWidget-v1
VERSION:2.0
METHOD:PUBLISH
BEGIN:VTIMEZONE
TZID:Europe/London
X-LIC-LOCATION:Europe/London
BEGIN:DAYLIGHT
TZOFFSETFROM:+0000
TZOFFSETTO:+0100
TZNAME:BST
DTSTART:19700329T010000
RRULE:FREQ=YEARLY;BYMONTH=3;BYDAY=-1SU
END:DAYLIGHT
BEGIN:STANDARD
TZOFFSETFROM:+0100
TZOFFSETTO:+0000
TZNAME:GMT
DTSTART:19701025T020000
RRULE:FREQ=YEARLY;BYMONTH=10;BYDAY=-1SU
END:STANDARD
END:VTIMEZONE
BEGIN:VEVENT
UID:6278630:Event:123440
DTSTAMP:20260424T223736Z
SUMMARY:A walk in Myddleton Road'- Gallery talk
DESCRIPTION:A free gallery talk by local artist Gabriela Schutz about 
 Myddleton Road, Â the history of panoramas, Â the process of drawing t
 he panoramas of the road and about other works done by the artist of t
 he local area.\nâ€˜A Walk in Myddleton Roadâ€™Â is an installation of 
 drawing panoramas by artistÂ Gabriela Schutz. Measuring 7.3m each, 2 o
 f the panoramas are a record of Myddleton Road - a vibrant and diverse
  Victorian commercial street in Bounds Green, North London, that is cu
 rrently going through a regeneration. The other drawing is of the New 
 River which goes under the street.Â \nThese days we spend so much time
  on our phones, exchanging information and communicating with distant 
 people â€“ yet at the same time being by ourselves. It is the personal
  and physical connection with a place which is the heart of this proje
 ct. It is about being part of a local community and engaging with real
 ity.Â \nDrawing is a way of observing the world and being totally pres
 ent. During the 6 months it has taken to draw the panoramas, I have be
 en intrigued by the changing architectural styles along the street,Â b
 y the shop fronts representing different periods of time, diverse cult
 ures and distinct aesthetic tastes. Over this period of creating the p
 anoramas, 3 shops have changed or newly opened. Â \nThe panoramic form
 at is very old. In the mid-19th century it was popular for people to g
 o and see huge, immersive panoramas ofÂ landscapesÂ andÂ historical ev
 entsÂ in special cylindrical buildings. This was an early version of â
 €˜3Dâ€™ cinema.Â The panoramas of Myddleton Road represent many walks 
 in the road. Hopefully they will serve asÂ an historical document of t
 he street as it was inÂ 2016/17. Drawing the street, rather than viewi
 ng via Google Earth or Streetview,Â is about slowing down and looking 
 properly at things â€“ and that is true for myself, the artist, and fo
 r you, the viewer..\n\nFor more information visit https://bowesandboun
 ds.org/events/a-walk-in-myddleton-road-gallery-talk
DTSTART;TZID=Europe/London:20170531T193000
DTEND;TZID=Europe/London:20170531T200000
CATEGORIES:gallery, talk
LOCATION:Bruce Castle Museum
WEBSITE:http://www.haringey.gov.uk/libraries-sport-and-leisure/culture
 -and-entertainment/visiting-haringey/bruce-castle-museum/whats/exhibit
 ions
URL:http://www.haringey.gov.uk/libraries-sport-and-leisure/culture-and
 -entertainment/visiting-haringey/bruce-castle-museum/whats/exhibitions
CONTACT:020 8808 8772
ORGANIZER;CN="gabriela Schutz":https://bowesandbounds.org/profile/gabr
 ielaSchutz
ATTACH;FMTTYPE="image/jpeg":http://storage.ning.com/topology/rest/1.0/
 file/get/2287319008?profile=original
ATTENDEE;ROLE=REQ-PARTICIPANT;PARTSTAT=ACCEPTED;RSVP=TRUE;CN="gabriela
  Schutz":https://bowesandbounds.org/profile/gabrielaSchutz
END:VEVENT
END:VCALENDAR
