BEGIN:VCALENDAR
PRODID:NingEventWidget-v1
VERSION:2.0
METHOD:PUBLISH
BEGIN:VTIMEZONE
TZID:Europe/London
X-LIC-LOCATION:Europe/London
BEGIN:DAYLIGHT
TZOFFSETFROM:+0000
TZOFFSETTO:+0100
TZNAME:BST
DTSTART:19700329T010000
RRULE:FREQ=YEARLY;BYMONTH=3;BYDAY=-1SU
END:DAYLIGHT
BEGIN:STANDARD
TZOFFSETFROM:+0100
TZOFFSETTO:+0000
TZNAME:GMT
DTSTART:19701025T020000
RRULE:FREQ=YEARLY;BYMONTH=10;BYDAY=-1SU
END:STANDARD
END:VTIMEZONE
BEGIN:VEVENT
UID:6278630:Event:85585
DTSTAMP:20260426T033330Z
SUMMARY:Action for Children: Charitable Fair
DESCRIPTION:\n\n\n\n\nTo raise charitable funds, the following is expe
 cted to be available:\n\nrefreshments,\nlunches (from 12 noon),\nhome-
 made cakes,\ntoiletries,\nbooks,\nDVDs,\nhome-made jams\n\nVenue offer
 s flat floor access with facilities for the disabled; limited parking\
 nOffers of help before, during and after the event welcome.\nOUTCOME: 
 A total of £2983 was raised for Action for Children on the day. Thank
  you for your support\n\n\n\n\nFor more information visit https://bowe
 sandbounds.org/events/action-for-children-charitable-fair
DTSTART;TZID=Europe/London:20141206T100000
DTEND;TZID=Europe/London:20141206T140000
CATEGORIES:fundraiser, charity
LOCATION:Southgate (The Bourne) Methodist Church
WEBSITE:http://www.actionforchildren.org.uk/about-us/what-we-do
URL:http://www.actionforchildren.org.uk/about-us/what-we-do
CONTACT:020 8886 8067
ORGANIZER;CN="Donald Smith":https://bowesandbounds.org/profile/DonaldS
 mith
ATTACH;FMTTYPE="image/jpeg":http://storage.ning.com/topology/rest/1.0/
 file/get/2287273334?profile=original
ATTENDEE;ROLE=REQ-PARTICIPANT;PARTSTAT=TENTATIVE;RSVP=TRUE;CN="Donald 
 Smith":https://bowesandbounds.org/profile/DonaldSmith
END:VEVENT
END:VCALENDAR
