BEGIN:VCALENDAR
PRODID:NingEventWidget-v1
VERSION:2.0
METHOD:PUBLISH
BEGIN:VTIMEZONE
TZID:Europe/London
X-LIC-LOCATION:Europe/London
BEGIN:DAYLIGHT
TZOFFSETFROM:+0000
TZOFFSETTO:+0100
TZNAME:BST
DTSTART:19700329T010000
RRULE:FREQ=YEARLY;BYMONTH=3;BYDAY=-1SU
END:DAYLIGHT
BEGIN:STANDARD
TZOFFSETFROM:+0100
TZOFFSETTO:+0000
TZNAME:GMT
DTSTART:19701025T020000
RRULE:FREQ=YEARLY;BYMONTH=10;BYDAY=-1SU
END:STANDARD
END:VTIMEZONE
BEGIN:VEVENT
UID:6278630:Event:107179
DTSTAMP:20260424T032801Z
SUMMARY:Additional Meeting Enfield CCG: NHS111and Financial Plan
DESCRIPTION:\nAll enquiries to David Triggs, CLICK HERE\n\n\n\n\nFor 
 more information visit https://bowesandbounds.org/events/additional-me
 eting-enfield-ccg-nhs111and-financial-plan
DTSTART;TZID=Europe/London:20160309T130000
DTEND;TZID=Europe/London:20160309T143000
CATEGORIES:enfield_ccg
LOCATION:Holbrook House, Cockfosters
WEBSITE:http://www.enfieldccg.nhs.uk/Downloads/BoardPapers/NHS%20Enfie
 ld%20CCG%20Governing%20Body%20meeting%20papers%209%20March%202016.pdf.
 pdf
URL:http://www.enfieldccg.nhs.uk/Downloads/BoardPapers/NHS%20Enfield%2
 0CCG%20Governing%20Body%20meeting%20papers%209%20March%202016.pdf.pdf
CONTACT:
ORGANIZER;CN="Donald Smith":https://bowesandbounds.org/profile/DonaldS
 mith
ATTACH;FMTTYPE="image/jpeg":
ATTENDEE;ROLE=REQ-PARTICIPANT;PARTSTAT=ACCEPTED;RSVP=TRUE;CN="Donald S
 mith":https://bowesandbounds.org/profile/DonaldSmith
END:VEVENT
END:VCALENDAR
