BEGIN:VCALENDAR
PRODID:NingEventWidget-v1
VERSION:2.0
METHOD:PUBLISH
BEGIN:VTIMEZONE
TZID:Europe/London
X-LIC-LOCATION:Europe/London
BEGIN:DAYLIGHT
TZOFFSETFROM:+0000
TZOFFSETTO:+0100
TZNAME:BST
DTSTART:19700329T010000
RRULE:FREQ=YEARLY;BYMONTH=3;BYDAY=-1SU
END:DAYLIGHT
BEGIN:STANDARD
TZOFFSETFROM:+0100
TZOFFSETTO:+0000
TZNAME:GMT
DTSTART:19701025T020000
RRULE:FREQ=YEARLY;BYMONTH=10;BYDAY=-1SU
END:STANDARD
END:VTIMEZONE
BEGIN:VEVENT
UID:6278630:Event:75961
DTSTAMP:20260419T152157Z
SUMMARY:Alan in wonderland and the 3 goats plus
DESCRIPTION:This show is a mixture of ‘Alice in Wonderland’ and a 
 generous helping of ‘The 3 Billy Goats Gruff’. We follow Alan (Ali
 ce’s brother) as he goes into the story to rescue his sister who has
  got stuck at a Tea Party. Alice has eaten so much that she has grown
  into a troll and is eating everything. The only way to help Alice i
 s to get the goats to save her.\nThis comical performance shows the fu
 n to be had from playing with traditional tales and joining them toget
 her. The audience will eagerly want to help and get involved by mimin
 g teacups, teapots and even one becoming a Troll (belly provided).\n\n
 For more information visit https://bowesandbounds.org/events/alan-in-w
 onderland-and-the-3-goats-plus
DTSTART;TZID=Europe/London:20140426T110000
DTEND;TZID=Europe/London:20140426T130000
CATEGORIES:childrens-entertainment
LOCATION:Karamel Restaurant
WEBSITE:http://www.karamelrestaurant.com
URL:http://www.karamelrestaurant.com
CONTACT:0208 829 8989
ORGANIZER;CN="Collage Arts":https://bowesandbounds.org/profile/Collage
 Arts
ATTACH;FMTTYPE="image/jpeg":http://storage.ning.com/topology/rest/1.0/
 file/get/2287263068?profile=original
ATTENDEE;ROLE=REQ-PARTICIPANT;PARTSTAT=ACCEPTED;RSVP=TRUE;CN="Collage 
 Arts":https://bowesandbounds.org/profile/CollageArts
END:VEVENT
END:VCALENDAR
