BEGIN:VCALENDAR
PRODID:NingEventWidget-v1
VERSION:2.0
METHOD:PUBLISH
BEGIN:VTIMEZONE
TZID:Europe/London
X-LIC-LOCATION:Europe/London
BEGIN:DAYLIGHT
TZOFFSETFROM:+0000
TZOFFSETTO:+0100
TZNAME:BST
DTSTART:19700329T010000
RRULE:FREQ=YEARLY;BYMONTH=3;BYDAY=-1SU
END:DAYLIGHT
BEGIN:STANDARD
TZOFFSETFROM:+0100
TZOFFSETTO:+0000
TZNAME:GMT
DTSTART:19701025T020000
RRULE:FREQ=YEARLY;BYMONTH=10;BYDAY=-1SU
END:STANDARD
END:VTIMEZONE
BEGIN:VEVENT
UID:6278630:Event:132333
DTSTAMP:20260424T170414Z
SUMMARY:Alexandra Palace Girl Talk Summer School
DESCRIPTION:An all-girl drama group (11 -16 years old) to get girls ta
 lking, playing and being creative about girls stuff. Sessions will foc
 us on building confidence, tackling challenging situations and promoti
 ng self-esteem. This group is for girls who have a love-hate relations
 hip with the spotlight but still want to have their say and get involv
 ed\nWhen: Thursday 2nd August to Saturday 4th August, from 11am-4pm.\n
 Where: Transmitter Hall Alexandra Palace\n£20 (excluding a booking fe
 e) for all three days! , Book your places now http://www.alexandrapala
 ce.com/whats-on/girl-talk/\n \n\nFor more information visit https://b
 owesandbounds.org/events/alexandra-palace-girl-talk-summer-school
DTSTART;TZID=Europe/London:20180802T110000
DTEND;TZID=Europe/London:20180804T160000
CATEGORIES:drama, summer, school
LOCATION:Transmitter Hall, ALexandra Palace
WEBSITE:http://www.alexandrapalace.com/visitor-information/
URL:http://www.alexandrapalace.com/visitor-information/
CONTACT:02083654187
ORGANIZER:Alexandra Palace
ATTACH;FMTTYPE="image/jpeg":http://storage.ning.com/topology/rest/1.0/
 file/get/2287329594?profile=original
ATTENDEE;ROLE=REQ-PARTICIPANT;PARTSTAT=ACCEPTED;RSVP=TRUE;CN="Isobel A
 ptaker":https://bowesandbounds.org/profile/IsobelAptaker
END:VEVENT
END:VCALENDAR
