BEGIN:VCALENDAR
PRODID:NingEventWidget-v1
VERSION:2.0
METHOD:PUBLISH
BEGIN:VTIMEZONE
TZID:Europe/London
X-LIC-LOCATION:Europe/London
BEGIN:DAYLIGHT
TZOFFSETFROM:+0000
TZOFFSETTO:+0100
TZNAME:BST
DTSTART:19700329T010000
RRULE:FREQ=YEARLY;BYMONTH=3;BYDAY=-1SU
END:DAYLIGHT
BEGIN:STANDARD
TZOFFSETFROM:+0100
TZOFFSETTO:+0000
TZNAME:GMT
DTSTART:19701025T020000
RRULE:FREQ=YEARLY;BYMONTH=10;BYDAY=-1SU
END:STANDARD
END:VTIMEZONE
BEGIN:VEVENT
UID:6278630:Event:115308
DTSTAMP:20260425T043855Z
SUMMARY:Alexandra Palace Summer Festival
DESCRIPTION:Celebrate summer at the Palace\nAlexandra Palace, one of L
 ondon’s most iconic events venues will celebrate its traditional Sum
 mer Festival on Saturday, 23rd July.\nDrop into the Kids Zone in the 
 Grove between 11:00 and 15:00 for free art and craft activities inspir
 ed by the activities that have taken place in the Park since opening i
 n 1873.\nFor more information, please visit our website: http://summe
 rfestival.alexandrapalace.com/homepage/whats-on/kids-activities/.\n C
 ontact community@alexandrapalace.com for more information\n \n\nFor
  more information visit https://bowesandbounds.org/events/alexandra-pa
 lace-summer-festival
DTSTART;TZID=Europe/London:20160723T110000
DTEND;TZID=Europe/London:20160723T150000
CATEGORIES:family, activity
LOCATION:Alexandra Palace
WEBSITE:http://www.alexandrapalace.com
URL:http://www.alexandrapalace.com
CONTACT:
ORGANIZER;CN="Isobel Aptaker":https://bowesandbounds.org/profile/Isobe
 lAptaker
ATTACH;FMTTYPE="image/jpeg":http://storage.ning.com/topology/rest/1.0/
 file/get/2287316116?profile=original
ATTENDEE;ROLE=REQ-PARTICIPANT;PARTSTAT=ACCEPTED;RSVP=TRUE;CN="Isobel A
 ptaker":https://bowesandbounds.org/profile/IsobelAptaker
END:VEVENT
END:VCALENDAR
