BEGIN:VCALENDAR
PRODID:NingEventWidget-v1
VERSION:2.0
METHOD:PUBLISH
BEGIN:VTIMEZONE
TZID:Europe/London
X-LIC-LOCATION:Europe/London
BEGIN:DAYLIGHT
TZOFFSETFROM:+0000
TZOFFSETTO:+0100
TZNAME:BST
DTSTART:19700329T010000
RRULE:FREQ=YEARLY;BYMONTH=3;BYDAY=-1SU
END:DAYLIGHT
BEGIN:STANDARD
TZOFFSETFROM:+0100
TZOFFSETTO:+0000
TZNAME:GMT
DTSTART:19701025T020000
RRULE:FREQ=YEARLY;BYMONTH=10;BYDAY=-1SU
END:STANDARD
END:VTIMEZONE
BEGIN:VEVENT
UID:6278630:Event:73096
DTSTAMP:20260425T194408Z
SUMMARY:Alexandra Palace - A history in Postcards
DESCRIPTION:Local history talk in postcards, with Hugh Garnsworthy, vi
 ce-chairman of Hornsey Historical Society  Parking, disabled access an
 d toilets available For further information contact Alexandra Park Lib
 rary on 020 8489 8770. Alexandra Park Library, Alexandra Park Road, N2
 2 7UJ Friday 28 February 2014 12.30pm-2pm Free\n\n\n\nFor more informa
 tion visit https://bowesandbounds.org/events/alexandra-park-a-history-
 in-postcards
DTSTART;TZID=Europe/London:20140228T123000
DTEND;TZID=Europe/London:20140228T140000
CATEGORIES:carers
LOCATION:Alexandra Park Library
WEBSITE:http://www.haringey.gov.uk/index/community_and_leisure/librari
 es/findalibrary/alexandraparklibrary.htm
URL:http://www.haringey.gov.uk/index/community_and_leisure/libraries/f
 indalibrary/alexandraparklibrary.htm
CONTACT:
ORGANIZER;CN=Administrator:https://bowesandbounds.org/profile/Administ
 rator
ATTACH;FMTTYPE="image/jpeg":http://storage.ning.com/topology/rest/1.0/
 file/get/2287226756?profile=original
ATTENDEE;ROLE=REQ-PARTICIPANT;PARTSTAT=ACCEPTED;RSVP=TRUE;CN="Stephen 
 Middleton":https://bowesandbounds.org/profile/StephenMiddleton
ATTENDEE;ROLE=REQ-PARTICIPANT;PARTSTAT=ACCEPTED;RSVP=TRUE;CN=Administr
 ator:https://bowesandbounds.org/profile/Administrator
ATTENDEE;ROLE=REQ-PARTICIPANT;PARTSTAT=ACCEPTED;RSVP=TRUE;CN="sue cole
 s":https://bowesandbounds.org/profile/suecoles
END:VEVENT
END:VCALENDAR
