BEGIN:VCALENDAR
PRODID:NingEventWidget-v1
VERSION:2.0
METHOD:PUBLISH
BEGIN:VTIMEZONE
TZID:Europe/London
X-LIC-LOCATION:Europe/London
BEGIN:DAYLIGHT
TZOFFSETFROM:+0000
TZOFFSETTO:+0100
TZNAME:BST
DTSTART:19700329T010000
RRULE:FREQ=YEARLY;BYMONTH=3;BYDAY=-1SU
END:DAYLIGHT
BEGIN:STANDARD
TZOFFSETFROM:+0100
TZOFFSETTO:+0000
TZNAME:GMT
DTSTART:19701025T020000
RRULE:FREQ=YEARLY;BYMONTH=10;BYDAY=-1SU
END:STANDARD
END:VTIMEZONE
BEGIN:VEVENT
UID:6278630:Event:134302
DTSTAMP:20260419T154359Z
SUMMARY:ALEXANDRA PARK CHAMBER MUSIC
DESCRIPTION:Enjoy great music locally! This 4th Year of Alexandra Cham
 ber Music has music to suit all tastes. Two concerts -\na flute and pi
 ano on Saturday 9th Feb with music by Bach, Mozart, Faure and Hindemit
 h:\na violin and piano on Sunday 10th Feb with music the 3 great Bs: B
 ach, Beethoven and Brahms. Suitable for children aged 6+ and all adult
 s.\nTickets Â£!0/Â£12 (advance/door)\nConcessions Â£7/Â£9\nchild Â£4/Â
 £5 (2nd/3rd child free)\nAdvance tickets from https://billetto.co.uk/e
 /329612/\n\n\nFor more information visit https://bowesandbounds.org/ev
 ents/alexandra-park-chamber-music-1
DTSTART;TZID=Europe/London:20190209T160000
DTEND;TZID=Europe/London:20190210T170000
CATEGORIES:musical, event, for, children, and, adults
LOCATION:Alexandra Park School
WEBSITE:
URL:
CONTACT:020 8888 6536
ORGANIZER;CN="Stephen Baron":https://bowesandbounds.org/profile/Stephe
 nBaron
ATTACH;FMTTYPE="image/jpeg":https://storage.ning.com/topology/rest/1.0
 /file/get/855842435?profile=original
ATTENDEE;ROLE=REQ-PARTICIPANT;PARTSTAT=ACCEPTED;RSVP=TRUE;CN="Stephen 
 Baron":https://bowesandbounds.org/profile/StephenBaron
END:VEVENT
END:VCALENDAR
