BEGIN:VCALENDAR
PRODID:NingEventWidget-v1
VERSION:2.0
METHOD:PUBLISH
BEGIN:VTIMEZONE
TZID:Europe/London
X-LIC-LOCATION:Europe/London
BEGIN:DAYLIGHT
TZOFFSETFROM:+0000
TZOFFSETTO:+0100
TZNAME:BST
DTSTART:19700329T010000
RRULE:FREQ=YEARLY;BYMONTH=3;BYDAY=-1SU
END:DAYLIGHT
BEGIN:STANDARD
TZOFFSETFROM:+0100
TZOFFSETTO:+0000
TZNAME:GMT
DTSTART:19701025T020000
RRULE:FREQ=YEARLY;BYMONTH=10;BYDAY=-1SU
END:STANDARD
END:VTIMEZONE
BEGIN:VEVENT
UID:6278630:Event:120385
DTSTAMP:20260419T154707Z
SUMMARY:ALEXANDRA PARK CLASSICAL CHAMBER MUSIC
DESCRIPTION:Now in its 2nd year, this weekend of chamber music present
 s:\nTHE MOZART STORY: Sat. Feb. 11th 4pm Mozart's life and times told 
 through his violin sonatas and the famous alla turca piano sonata (sui
 table for children 6+) Hartmut Richter - violin; Stephen Baron - piano
 .\n A VALENTINE'S MUSICAL TREAT: Sun 12th Feb. 4pm: the Romantic pia
 no music of Chopin, a musical entertainment with drawing, dance, perc
 ussion and listening for all children aged 1-6.  Stephen Baron - pian
 o.\nAlexandra Park School, Bidwell Gdns (entrance in Rhodes Ave, no pa
 rking in school grounds). Tickets £7 adult or child from hartmutricht
 er.com/tickets. Further info 020 8888 6536\n\nFor more information vis
 it https://bowesandbounds.org/events/alexandra-park-classical-chamber-
 music
DTSTART;TZID=Europe/London:20170211T160000
DTEND;TZID=Europe/London:20170212T170000
CATEGORIES:musical, event, for, children, and, adults
LOCATION:Alexandra Park School
WEBSITE:http://Alexandra Park School
URL:http://Alexandra Park School
CONTACT:020 8888 6536
ORGANIZER;CN="Stephen Baron":https://bowesandbounds.org/profile/Stephe
 nBaron
ATTACH;FMTTYPE="image/jpeg":
ATTENDEE;ROLE=REQ-PARTICIPANT;PARTSTAT=ACCEPTED;RSVP=TRUE;CN="Stephen 
 Baron":https://bowesandbounds.org/profile/StephenBaron
ATTENDEE;ROLE=REQ-PARTICIPANT;PARTSTAT=TENTATIVE;RSVP=TRUE;CN="Sureka 
 Fernando":https://bowesandbounds.org/profile/SurekaFernando
END:VEVENT
END:VCALENDAR
