BEGIN:VCALENDAR
PRODID:NingEventWidget-v1
VERSION:2.0
METHOD:PUBLISH
BEGIN:VTIMEZONE
TZID:Europe/London
X-LIC-LOCATION:Europe/London
BEGIN:DAYLIGHT
TZOFFSETFROM:+0000
TZOFFSETTO:+0100
TZNAME:BST
DTSTART:19700329T010000
RRULE:FREQ=YEARLY;BYMONTH=3;BYDAY=-1SU
END:DAYLIGHT
BEGIN:STANDARD
TZOFFSETFROM:+0100
TZOFFSETTO:+0000
TZNAME:GMT
DTSTART:19701025T020000
RRULE:FREQ=YEARLY;BYMONTH=10;BYDAY=-1SU
END:STANDARD
END:VTIMEZONE
BEGIN:VEVENT
UID:6278630:Event:62659
DTSTAMP:20260423T162945Z
SUMMARY:Alexandra Park Cricket & Football Club Open Day
DESCRIPTION:Alongside the Palace's 150th anniversary the Alexandra Par
 k Cricket & Football Club is celebrating its 125th anniversary. This S
 unday with the Palace's 150th celebrations we will be having a club op
 en day. There will be an all day BBQ and our bar will be open for drin
 ks. We will also be showing the Ashes Cricket from Lords as well as ha
 ving our own senior and junior cricket matches.\nThe cricket club is a
 lways on the look out for new members both young and old. In particula
 r we are looking to grow our youth section with children from 5 to 15 
 welcome to join our Sunday morning sessions.\nWe also have a well esta
 blished football club providing both senior and youth coaching and gam
 es. New members to both clubs are very welcome whether players, offici
 als or social.\n\nFor more information visit https://bowesandbounds.or
 g/events/alexandra-park-cricket-football-club-open-day
DTSTART;TZID=Europe/London:20130721T120000
DTEND;TZID=Europe/London:20130721T180000
CATEGORIES:open, day
LOCATION:The Racecourse Ground, Alexandra Park
WEBSITE:https://maps.google.com/?ll=51.593449,-0.12513&spn=0.005205,0.
 013937&t=h&z=17
URL:https://maps.google.com/?ll=51.593449,-0.12513&spn=0.005205,0.0139
 37&t=h&z=17
CONTACT:
ORGANIZER;CN="Alistair Wilson":https://bowesandbounds.org/profile/Alis
 tairWilson
ATTACH;FMTTYPE="image/jpeg":http://storage.ning.com/topology/rest/1.0/
 file/get/2287251865?profile=original
ATTENDEE;ROLE=REQ-PARTICIPANT;PARTSTAT=ACCEPTED;RSVP=TRUE;CN="Alistair
  Wilson":https://bowesandbounds.org/profile/AlistairWilson
END:VEVENT
END:VCALENDAR
