BEGIN:VCALENDAR
PRODID:NingEventWidget-v1
VERSION:2.0
METHOD:PUBLISH
BEGIN:VTIMEZONE
TZID:Europe/London
X-LIC-LOCATION:Europe/London
BEGIN:DAYLIGHT
TZOFFSETFROM:+0000
TZOFFSETTO:+0100
TZNAME:BST
DTSTART:19700329T010000
RRULE:FREQ=YEARLY;BYMONTH=3;BYDAY=-1SU
END:DAYLIGHT
BEGIN:STANDARD
TZOFFSETFROM:+0100
TZOFFSETTO:+0000
TZNAME:GMT
DTSTART:19701025T020000
RRULE:FREQ=YEARLY;BYMONTH=10;BYDAY=-1SU
END:STANDARD
END:VTIMEZONE
BEGIN:VEVENT
UID:6278630:Event:102629
DTSTAMP:20260422T204250Z
SUMMARY:All Souls Memoriam Service
DESCRIPTION:An All Souls Memorial Service will be held in the Church S
 anctuary led by the Minister Revd Julia Wiktorska for both departed me
 mbers of the congregation and any members of the public. Anyone wishin
 g the opportunity to pay respects, to offer thanks is welcome to atten
 d. \nNote that neither Holy Communion, Mass, NOR the elements will be
  offered at this service\nThe opportunity exists for \"the departed\" 
 to be publicly named as part of the service. To give the minister adva
 nce notice of this request, CLICK HERE and provide the following infor
 mation\nYOUR NAME________________\nName of departed wishing to be reme
 mbered\n____________________ RELATION________\nWill YOU be attending 
 the service: YES/NO?\nMembers of the congregation will be offered to t
 ake refreshment such as tea/coffee after the service\n----------------
 ---------------------- \nAll Souls' Day commemorates the 'faithful de
 parted'. This is a day of remembrance for friends and loved ones who h
 ave passed away and is purposely separate from an All Saints' Day serv
 ice in order to move the focus from the saints to ordinary people. For
  Christians, remembrance is an expression through prayer of our contin
 uing love and support for those who have died, an expression that fait
 h, hope and love do not end in death. Our prayer declares our belief t
 hat life and love transcend the grave, because of Christ who died and 
 was raised from the grave. So on All Souls' Day we have a chance to pr
 ay for, and lovingly remember, those who are no longer with us and to 
 remember that, in Christ, we are still united as one body.\n\n\n\nFor 
 more information visit https://bowesandbounds.org/events/all-souls-mem
 oriam-service
DTSTART;TZID=Europe/London:20151101T160000
DTEND;TZID=Europe/London:20151101T170000
CATEGORIES:church, remembrance
LOCATION:Methodist Church
WEBSITE:http://www.enfieldcircuit.com
URL:http://www.enfieldcircuit.com
CONTACT:
ORGANIZER;CN="Donald Smith":https://bowesandbounds.org/profile/DonaldS
 mith
ATTACH;FMTTYPE="image/jpeg":http://storage.ning.com/topology/rest/1.0/
 file/get/2287298557?profile=original
ATTENDEE;ROLE=REQ-PARTICIPANT;PARTSTAT=ACCEPTED;RSVP=TRUE;CN="Donald S
 mith":https://bowesandbounds.org/profile/DonaldSmith
END:VEVENT
END:VCALENDAR
