BEGIN:VCALENDAR
PRODID:NingEventWidget-v1
VERSION:2.0
METHOD:PUBLISH
BEGIN:VTIMEZONE
TZID:Europe/London
X-LIC-LOCATION:Europe/London
BEGIN:DAYLIGHT
TZOFFSETFROM:+0000
TZOFFSETTO:+0100
TZNAME:BST
DTSTART:19700329T010000
RRULE:FREQ=YEARLY;BYMONTH=3;BYDAY=-1SU
END:DAYLIGHT
BEGIN:STANDARD
TZOFFSETFROM:+0100
TZOFFSETTO:+0000
TZNAME:GMT
DTSTART:19701025T020000
RRULE:FREQ=YEARLY;BYMONTH=10;BYDAY=-1SU
END:STANDARD
END:VTIMEZONE
BEGIN:VEVENT
UID:6278630:Event:250924
DTSTAMP:20260421T124414Z
SUMMARY:Ally Pally Allotments Open Day
DESCRIPTION:Situated on a south facing hillside alongside Alexandra Pa
 rk, this 140 plot allotment site has the feel of an urban village with
  spectacular views towards central London and, on a clear day, the Nor
 th Downs. Its diverse community of gardeners grow fruit, vegetables an
 d flowers with an emphasis on promoting biodiversity.\n£5 entry towar
 ds NGS Charities (children free). Wonderful views, walk around allotme
 nts, guided tours of a selection of plots. Cafe with home-made refresh
 ments, Stalls selling plants, books and used tools, Cash or card payme
 nt for entry, refreshments, stalls.\nDirections to Ally Pally Allotmen
 ts From Alexandra Park, entry gate in fence, near footpath to Springfi
 eld Ave & Alexandra Palace Garden Centre, follow NGS signs. Bus W3 to 
 Alexandra Palace Garden Centre. Parking nearby in Duke's Ave, N10. Blu
 e Badge holder parking in The Grove. No parking onsite.\nPut Google Pl
 us Code \"HVR8+R8Q London\" into Google Maps search box for precise lo
 cation and directions.\n\nFor more information visit https://bowesandb
 ounds.org/events/ally-pally-allotments-open-day
DTSTART;TZID=Europe/London:20250622T130000
DTEND;TZID=Europe/London:20250622T163000
CATEGORIES:allotments, garden, open, day
LOCATION:Alexandra Park, N10.
WEBSITE:https://www.google.co.uk/maps/place/51%C2%B035&#039;31.5%22N+0
 %C2%B008&#039;02.9%22W/@51.5920878,-0.1347807,158m/data=!3m2!1e3!4b1!4
 m4!3m3!8m2!3d51.592087!4d-0.134137!5m2!1e2!1e4?entry=ttu&amp;g_ep=Egoy
 MDI1MDYxNy4wIKXMDSoASAFQAw%3D%3D
URL:https://www.google.co.uk/maps/place/51%C2%B035&#039;31.5%22N+0%C2%
 B008&#039;02.9%22W/@51.5920878,-0.1347807,158m/data=!3m2!1e3!4b1!4m4!3
 m3!8m2!3d51.592087!4d-0.134137!5m2!1e2!1e4?entry=ttu&amp;g_ep=EgoyMDI1
 MDYxNy4wIKXMDSoASAFQAw%3D%3D
CONTACT:
ORGANIZER;CN="Robert Hare":https://bowesandbounds.org/profile/RobertHa
 re
ATTACH;FMTTYPE="image/jpeg":https://storage.ning.com/topology/rest/1.0
 /file/get/13609174889?profile=original
ATTENDEE;ROLE=REQ-PARTICIPANT;PARTSTAT=ACCEPTED;RSVP=TRUE;CN="Robert H
 are":https://bowesandbounds.org/profile/RobertHare
END:VEVENT
END:VCALENDAR
