BEGIN:VCALENDAR
PRODID:NingEventWidget-v1
VERSION:2.0
METHOD:PUBLISH
BEGIN:VTIMEZONE
TZID:Europe/London
X-LIC-LOCATION:Europe/London
BEGIN:DAYLIGHT
TZOFFSETFROM:+0000
TZOFFSETTO:+0100
TZNAME:BST
DTSTART:19700329T010000
RRULE:FREQ=YEARLY;BYMONTH=3;BYDAY=-1SU
END:DAYLIGHT
BEGIN:STANDARD
TZOFFSETFROM:+0100
TZOFFSETTO:+0000
TZNAME:GMT
DTSTART:19701025T020000
RRULE:FREQ=YEARLY;BYMONTH=10;BYDAY=-1SU
END:STANDARD
END:VTIMEZONE
BEGIN:VEVENT
UID:6278630:Event:252302
DTSTAMP:20260420T043128Z
SUMMARY:AMMA IS BACK!
DESCRIPTION:This is the first visit to London since 2019 by Amma one o
 f the most famous Indian spiritual leaders. She used to come to Alexan
 dra Palace annually before Covid to give an individual hug/blessing to
  thousands of people over 3 days.It's now in Esher though !!  The pro
 gramme includes: Darshan, Amma's Embrace, Spiritual talks, Meditation,
  Music with vegetarian food.\nFREE ENTRY\n\nFor more information visit
  https://bowesandbounds.org/events/amma-is-back
DTSTART;TZID=Europe/London:20251117T180000
DTEND;TZID=Europe/London:20251117T190000
CATEGORIES:big, event
LOCATION:SANDOWN PARK RACECOURSE
WEBSITE:
URL:
CONTACT:07912361631
ORGANIZER;CN="Sue Davies":https://bowesandbounds.org/profile/SueDavies
ATTACH;FMTTYPE="image/jpeg":
ATTENDEE;ROLE=REQ-PARTICIPANT;PARTSTAT=ACCEPTED;RSVP=TRUE;CN="Sue Davi
 es":https://bowesandbounds.org/profile/SueDavies
END:VEVENT
END:VCALENDAR
