BEGIN:VCALENDAR
PRODID:NingEventWidget-v1
VERSION:2.0
METHOD:PUBLISH
BEGIN:VTIMEZONE
TZID:Europe/London
X-LIC-LOCATION:Europe/London
BEGIN:DAYLIGHT
TZOFFSETFROM:+0000
TZOFFSETTO:+0100
TZNAME:BST
DTSTART:19700329T010000
RRULE:FREQ=YEARLY;BYMONTH=3;BYDAY=-1SU
END:DAYLIGHT
BEGIN:STANDARD
TZOFFSETFROM:+0100
TZOFFSETTO:+0000
TZNAME:GMT
DTSTART:19701025T020000
RRULE:FREQ=YEARLY;BYMONTH=10;BYDAY=-1SU
END:STANDARD
END:VTIMEZONE
BEGIN:VEVENT
UID:6278630:Event:248438
DTSTAMP:20260423T231336Z
SUMMARY:An Introduction to Modern Embroidery Workshop
DESCRIPTION:Beginners Modern Embroidery Class\nAt Pearsons Department 
 Store, in Enfield with Stitch! Crafts and Classes\nUnleash your creati
 vity and bring new life to your wardrobe with our Modern Embroidery Cl
 ass! Learn the art of embellishing your clothes with unique and playfu
 l designs. Whether you're a beginner or an experienced stitcher, this 
 class is perfect for anyone looking to add a personal touch to their o
 utfits.\nYou will be taught by Jill Kipnis from Inspirational Embroide
 ry who has decades of experience and is an absolute master of the craf
 t. She started her journey at the Royal School of Needlework and has b
 een involved in restoration projects from Blenheim Palace to the V&A\n
 What You’ll Learn:\n\nBasic to advanced embroidery techniques\nHow t
 o transfer patterns onto fabric\nCreative design ideas for clothing em
 bellishment\nTips and tricks for clean, professional-looking stitches\
 n\nWhat to Bring:\n\nYour favorite clothes or fabric pieces to embelli
 sh\nWe will also provide fabric if you don't want to use something of 
 your own\n\nJoin us for a fun and relaxing session of stitching and cr
 eativity. Walk away with the ability to beautiful customise pieces tha
 t will be uniquely yours!\nSuitable workshop for teens (ages 13 and ab
 ove) and adults.\nCLASS SIZE - Up to 16 people\nDATE & TIME - Saturday
  28th September, 11-12.30\nDURATION - 1.5 hours total tuition\nCOST - 
 £30\nLOCATION: Pearsons Department Store, Ground Floor (on 1st floor 
 adjacent to the bed department) Enfield, EN2 6LJ\nBOOKING LINK: https
 ://www.stitch.org.uk/shop/An-Introduction-to-Modern-Embroidery-Saturda
 y-28th-September-11-12-30-@-Pearsons-Department-Store-EN2-6LJ-p6807284
 35\nWe look forward to seeing you and sharing with you our love of mod
 ern embroidery and all things craft!\nThe StitchN13 Team x\nPlease ens
 ure you have read fully our terms and conditions.\n\nFor more informat
 ion visit https://bowesandbounds.org/events/an-introduction-to-modern-
 embroidery-workshop
DTSTART;TZID=Europe/London:20240928T110000
DTEND;TZID=Europe/London:20240928T123000
CATEGORIES:embroidery, workshop
LOCATION:Pearsons Department Store
WEBSITE:https://www.stitch.org.uk/shop/An-Introduction-to-Modern-Embro
 idery-Saturday-28th-September-11-12-30-@-Pearsons-Department-Store-EN2
 -6LJ-p680728435
URL:https://www.stitch.org.uk/shop/An-Introduction-to-Modern-Embroider
 y-Saturday-28th-September-11-12-30-@-Pearsons-Department-Store-EN2-6LJ
 -p680728435
CONTACT:07903 614726
ORGANIZER;CN="Suzanne Kelly":https://bowesandbounds.org/profile/Suzann
 eKelly
ATTACH;FMTTYPE="image/jpeg":https://storage.ning.com/topology/rest/1.0
 /file/get/12950833297?profile=original
ATTENDEE;ROLE=REQ-PARTICIPANT;PARTSTAT=ACCEPTED;RSVP=TRUE;CN="Suzanne 
 Kelly":https://bowesandbounds.org/profile/SuzanneKelly
END:VEVENT
END:VCALENDAR
