BEGIN:VCALENDAR
PRODID:NingEventWidget-v1
VERSION:2.0
METHOD:PUBLISH
BEGIN:VTIMEZONE
TZID:Europe/London
X-LIC-LOCATION:Europe/London
BEGIN:DAYLIGHT
TZOFFSETFROM:+0000
TZOFFSETTO:+0100
TZNAME:BST
DTSTART:19700329T010000
RRULE:FREQ=YEARLY;BYMONTH=3;BYDAY=-1SU
END:DAYLIGHT
BEGIN:STANDARD
TZOFFSETFROM:+0100
TZOFFSETTO:+0000
TZNAME:GMT
DTSTART:19701025T020000
RRULE:FREQ=YEARLY;BYMONTH=10;BYDAY=-1SU
END:STANDARD
END:VTIMEZONE
BEGIN:VEVENT
UID:6278630:Event:95290
DTSTAMP:20260419T172119Z
SUMMARY:Another Country at Mum's Lounge
DESCRIPTION:Bounds Green might be a long way from Nashville... but you
  can still listen to some fine country music with ANOTHER COUNTRY appe
 aring at Mum's Bistro on June 30 playing their own and other's materia
 l including by Emmylou Harris,Lyle Lovett and Ron Sexsmith.  Mum's Bis
 tro, 143 Myddleton Road, London N22 8NG nearest tube Bounds Green\n\nF
 or more information visit https://bowesandbounds.org/events/another-co
 untry-at-mum-s-lounge
DTSTART;TZID=Europe/London:20150630T193000
DTEND;TZID=Europe/London:20150630T223000
CATEGORIES:hoedown
LOCATION:Bounds Green
WEBSITE:http://www.mums-bistro.co.uk/findUs.html
URL:http://www.mums-bistro.co.uk/findUs.html
CONTACT:
ORGANIZER;CN="julian macqueen":https://bowesandbounds.org/profile/juli
 anmacqueen
ATTACH;FMTTYPE="image/jpeg":http://storage.ning.com/topology/rest/1.0/
 file/get/2287286507?profile=original
ATTENDEE;ROLE=REQ-PARTICIPANT;PARTSTAT=ACCEPTED;RSVP=TRUE;CN="julian m
 acqueen":https://bowesandbounds.org/profile/julianmacqueen
END:VEVENT
END:VCALENDAR
