BEGIN:VCALENDAR
PRODID:NingEventWidget-v1
VERSION:2.0
METHOD:PUBLISH
BEGIN:VTIMEZONE
TZID:Europe/London
X-LIC-LOCATION:Europe/London
BEGIN:DAYLIGHT
TZOFFSETFROM:+0000
TZOFFSETTO:+0100
TZNAME:BST
DTSTART:19700329T010000
RRULE:FREQ=YEARLY;BYMONTH=3;BYDAY=-1SU
END:DAYLIGHT
BEGIN:STANDARD
TZOFFSETFROM:+0100
TZOFFSETTO:+0000
TZNAME:GMT
DTSTART:19701025T020000
RRULE:FREQ=YEARLY;BYMONTH=10;BYDAY=-1SU
END:STANDARD
END:VTIMEZONE
BEGIN:VEVENT
UID:6278630:Event:31709
DTSTAMP:20260423T214148Z
SUMMARY:AP and Beyond Festive Fun
DESCRIPTION:Art exhibition and sale, African drum stand and Christmas 
 treats, including music from Stephen Baron one of the AP & Beyond Musi
 cians.\nCome join us for a glass of Mulled wine and a mince pie. yum!!
 !\n\n\nFor more information visit https://bowesandbounds.org/events/ap
 -and-beyond-festive-fun
DTSTART;TZID=Europe/London:20111203T000000
DTEND;TZID=Europe/London:20111203T173000
CATEGORIES:arts, music
LOCATION:Everyone's Climbing Tree
WEBSITE:http://maps.google.com/maps?q=141+station+road,+London,+N22+7S
 T&oe=utf-8&client=firefox-a&hnear=141+Station+Rd,+London+N22+7ST,+Unit
 ed+Kingdom&t=m&z=16&vpsrc=0
URL:http://maps.google.com/maps?q=141+station+road,+London,+N22+7ST&oe
 =utf-8&client=firefox-a&hnear=141+Station+Rd,+London+N22+7ST,+United+K
 ingdom&t=m&z=16&vpsrc=0
CONTACT:
ORGANIZER;CN="Richard McKeever":https://bowesandbounds.org/profile/3hw
 xkqhdde8gc
ATTACH;FMTTYPE="image/jpeg":http://storage.ning.com/topology/rest/1.0/
 file/get/2287226915?profile=original
ATTENDEE;ROLE=REQ-PARTICIPANT;PARTSTAT=ACCEPTED;RSVP=TRUE;CN="Richard 
 McKeever":https://bowesandbounds.org/profile/3hwxkqhdde8gc
ATTENDEE;ROLE=REQ-PARTICIPANT;PARTSTAT=TENTATIVE;RSVP=TRUE;CN="Ruth Ch
 errington":https://bowesandbounds.org/profile/RuthC
END:VEVENT
END:VCALENDAR
