BEGIN:VCALENDAR
PRODID:NingEventWidget-v1
VERSION:2.0
METHOD:PUBLISH
BEGIN:VTIMEZONE
TZID:Europe/London
X-LIC-LOCATION:Europe/London
BEGIN:DAYLIGHT
TZOFFSETFROM:+0000
TZOFFSETTO:+0100
TZNAME:BST
DTSTART:19700329T010000
RRULE:FREQ=YEARLY;BYMONTH=3;BYDAY=-1SU
END:DAYLIGHT
BEGIN:STANDARD
TZOFFSETFROM:+0100
TZOFFSETTO:+0000
TZNAME:GMT
DTSTART:19701025T020000
RRULE:FREQ=YEARLY;BYMONTH=10;BYDAY=-1SU
END:STANDARD
END:VTIMEZONE
BEGIN:VEVENT
UID:6278630:Event:122365
DTSTAMP:20260423T183956Z
SUMMARY:April Love - Vintage Fair at the Castle
DESCRIPTION:MAKE A DATE for our fantastic Vintage Fair at the Castle t
 his Spring! Shop from over 30 stallholders selling glorious genuine v
 intage clothes, accessories, jewellery, furniture, records, china and 
 kitchenalia, toys, comics, prints and ephemera, patterns, haberdashery
 , and vintage-inspired handmade gifts. Enjoy our Vintage Café, selli
 ng tea, scrummy cakes and sandwiches all day. Entrance: £1.50 adults;
  accompanied children free  Bruce Castle Museum, Lordship Lane, Totten
 ham, London N17 8NU  020 8808 8772  www.haringey.gov.uk/brucecastlemu
 seum https://www.facebook.com/Friends-of-Bruce-Castle-Museum-491815574
 176035/\n\nFor more information visit https://bowesandbounds.org/event
 s/april-love-vintage-fair-at-the-castle
DTSTART;TZID=Europe/London:20170429T103000
DTEND;TZID=Europe/London:20170429T163000
CATEGORIES:vintage, fair, market, craft, antiques
LOCATION:Bruce Castle Museum
WEBSITE:http://www.haringey.gov.uk/brucecastlemuseum
URL:http://www.haringey.gov.uk/brucecastlemuseum
CONTACT:020 8808 8772
ORGANIZER;CN="Deborah Hedgecock":https://bowesandbounds.org/profile/De
 borahHedgecock
ATTACH;FMTTYPE="image/jpeg":http://storage.ning.com/topology/rest/1.0/
 file/get/2287278196?profile=original
ATTENDEE;ROLE=REQ-PARTICIPANT;PARTSTAT=ACCEPTED;RSVP=TRUE;CN="Deborah 
 Hedgecock":https://bowesandbounds.org/profile/DeborahHedgecock
END:VEVENT
END:VCALENDAR
