BEGIN:VCALENDAR
PRODID:NingEventWidget-v1
VERSION:2.0
METHOD:PUBLISH
BEGIN:VTIMEZONE
TZID:Europe/London
X-LIC-LOCATION:Europe/London
BEGIN:DAYLIGHT
TZOFFSETFROM:+0000
TZOFFSETTO:+0100
TZNAME:BST
DTSTART:19700329T010000
RRULE:FREQ=YEARLY;BYMONTH=3;BYDAY=-1SU
END:DAYLIGHT
BEGIN:STANDARD
TZOFFSETFROM:+0100
TZOFFSETTO:+0000
TZNAME:GMT
DTSTART:19701025T020000
RRULE:FREQ=YEARLY;BYMONTH=10;BYDAY=-1SU
END:STANDARD
END:VTIMEZONE
BEGIN:VEVENT
UID:6278630:Event:251837
DTSTAMP:20260424T221843Z
SUMMARY:Art and Ceramics Sale @ Shaftesbury Hall
DESCRIPTION:Join us for a lovely selection of artists and ceramicists 
 at Shaftesbury Hall in Bowes Park. We will have prints, canvas's and c
 eramics at affordable prices. Free entry. \n\n\nFor more information 
 visit https://bowesandbounds.org/events/art-and-ceramcis-sale-shaftesb
 ury-hall
DTSTART;TZID=Europe/London:20251025T120000
DTEND;TZID=Europe/London:20251025T160000
CATEGORIES:sale
LOCATION:Shaftesbury Hall
WEBSITE:http://www.myddletonroadmarket.co.uk
URL:http://www.myddletonroadmarket.co.uk
CONTACT:
ORGANIZER;CN="Lucy Whitehead":https://bowesandbounds.org/profile/LucyW
 hitehead
ATTACH;FMTTYPE="image/jpeg":https://storage.ning.com/topology/rest/1.0
 /file/get/13743420266?profile=original
ATTENDEE;ROLE=REQ-PARTICIPANT;PARTSTAT=ACCEPTED;RSVP=TRUE;CN="Lucy Whi
 tehead":https://bowesandbounds.org/profile/LucyWhitehead
END:VEVENT
END:VCALENDAR
