BEGIN:VCALENDAR
PRODID:NingEventWidget-v1
VERSION:2.0
METHOD:PUBLISH
BEGIN:VTIMEZONE
TZID:Europe/London
X-LIC-LOCATION:Europe/London
BEGIN:DAYLIGHT
TZOFFSETFROM:+0000
TZOFFSETTO:+0100
TZNAME:BST
DTSTART:19700329T010000
RRULE:FREQ=YEARLY;BYMONTH=3;BYDAY=-1SU
END:DAYLIGHT
BEGIN:STANDARD
TZOFFSETFROM:+0100
TZOFFSETTO:+0000
TZNAME:GMT
DTSTART:19701025T020000
RRULE:FREQ=YEARLY;BYMONTH=10;BYDAY=-1SU
END:STANDARD
END:VTIMEZONE
BEGIN:VEVENT
UID:6278630:Event:37840
DTSTAMP:20260422T040315Z
SUMMARY:Art Group trip to Hampton Court
DESCRIPTION:Art Group Day trip to Hampton Court 20 May\nThe Art Group 
 organises outings for people in Bowes Park who would like to do some d
 rawing, though you don't have to draw - others are welcome to come alo
 ng.\nTrips are organised every month or so to museums or, in the summe
 r, parks and cemeteries. Sometimes we do day trips out of London to hi
 storic places, travelling by rail on \"Four for the price of two\" tic
 kets.\nIf you would like to join us on our next trip or you would like
  more information then please send an emailcarojm_uk@yahoo.com\n\nFor 
 more information visit https://bowesandbounds.org/events/art-group-tri
 p-to-hampton-court
DTSTART;TZID=Europe/London:20120520T000000
DTEND;TZID=Europe/London:20120520T235900
CATEGORIES:"art group"
LOCATION:Bowes Park
WEBSITE:
URL:
CONTACT:
ORGANIZER;CN=Administrator:https://bowesandbounds.org/profile/Administ
 rator
ATTACH;FMTTYPE="image/jpeg":http://storage.ning.com/topology/rest/1.0/
 file/get/2287232994?profile=original
ATTENDEE;ROLE=REQ-PARTICIPANT;PARTSTAT=ACCEPTED;RSVP=TRUE;CN=Administr
 ator:https://bowesandbounds.org/profile/Administrator
END:VEVENT
END:VCALENDAR
