BEGIN:VCALENDAR
PRODID:NingEventWidget-v1
VERSION:2.0
METHOD:PUBLISH
BEGIN:VTIMEZONE
TZID:Europe/London
X-LIC-LOCATION:Europe/London
BEGIN:DAYLIGHT
TZOFFSETFROM:+0000
TZOFFSETTO:+0100
TZNAME:BST
DTSTART:19700329T010000
RRULE:FREQ=YEARLY;BYMONTH=3;BYDAY=-1SU
END:DAYLIGHT
BEGIN:STANDARD
TZOFFSETFROM:+0100
TZOFFSETTO:+0000
TZNAME:GMT
DTSTART:19701025T020000
RRULE:FREQ=YEARLY;BYMONTH=10;BYDAY=-1SU
END:STANDARD
END:VTIMEZONE
BEGIN:VEVENT
UID:6278630:Event:57541
DTSTAMP:20260420T182856Z
SUMMARY:Art Group trip to William Morris Gallery
DESCRIPTION:The Bowes Park art group will be going to the William Morr
 is Gallery in Walthamstow to draw and look around. The gallery is free
 , has a nice cafe and is in a park. It is a finalist in the Art Fund M
 useum of the year competition. \nEveryone is welcome to come along an
 d find out more about the visionary and designer - you don't have to d
 raw! Meet at Bounds Green tube station at 1.30 to travel to Walthamsto
 w Central for a short bus ride to the gallery.\n\nFor more information
  visit https://bowesandbounds.org/events/art-group-trip-to-william-mor
 ris-gallery
DTSTART;TZID=Europe/London:20130428T133000
DTEND;TZID=Europe/London:20130428T173000
CATEGORIES:outing, "art group"
LOCATION:Walthamstow
WEBSITE:http://www.wmgallery.org.uk
URL:http://www.wmgallery.org.uk
CONTACT:
ORGANIZER;CN="Catharine Perry":https://bowesandbounds.org/profile/Cath
 arinePerry
ATTACH;FMTTYPE="image/jpeg":http://storage.ning.com/topology/rest/1.0/
 file/get/2287247729?profile=original
ATTENDEE;ROLE=REQ-PARTICIPANT;PARTSTAT=ACCEPTED;RSVP=TRUE;CN="Catharin
 e Perry":https://bowesandbounds.org/profile/CatharinePerry
END:VEVENT
END:VCALENDAR
