BEGIN:VCALENDAR
PRODID:NingEventWidget-v1
VERSION:2.0
METHOD:PUBLISH
BEGIN:VTIMEZONE
TZID:Europe/London
X-LIC-LOCATION:Europe/London
BEGIN:DAYLIGHT
TZOFFSETFROM:+0000
TZOFFSETTO:+0100
TZNAME:BST
DTSTART:19700329T010000
RRULE:FREQ=YEARLY;BYMONTH=3;BYDAY=-1SU
END:DAYLIGHT
BEGIN:STANDARD
TZOFFSETFROM:+0100
TZOFFSETTO:+0000
TZNAME:GMT
DTSTART:19701025T020000
RRULE:FREQ=YEARLY;BYMONTH=10;BYDAY=-1SU
END:STANDARD
END:VTIMEZONE
BEGIN:VEVENT
UID:6278630:Event:64419
DTSTAMP:20260425T042349Z
SUMMARY:Artist Workshop: Cartoons & Gags with Simon Pearsall
DESCRIPTION:Wednesday 4th September, 7.30pm £8 per person, all materi
 als included – booking essential!\nSimon Pearsall is a professional 
 cartoonist whose work appears in Private Eye, The Oldie and The Specta
 tor.\nJoin Simon for a one-off artist workshop, which will give pupils
  an exciting opportunity to learn how to draw cartoons or offer furthe
 r advice and help if you already can!\nThe workshop will also explore 
 looking for and setting a joke, cheating so your drawing looks better,
  and a few tricks of the trade.\nAttendees will also be able to view h
 is exhibition at The Step which features original and exclusive framed
  illustrations, including a number of his First Drafts Series, which h
 ave been running on the Literary Review page of Private Eye since 2002
 .\nSimon, who lives in Bowes Park, was awarded Gag Cartoonist 2010 by 
 the Cartoon Art Trust.\n\nFor more information visit https://bowesandb
 ounds.org/events/artist-workshop-cartoons-gags-with-simon-pearsall
DTSTART;TZID=Europe/London:20130904T193000
DTEND;TZID=Europe/London:20130904T210000
CATEGORIES:artist, workshop, lesson, illustration, cartoon
LOCATION:The Step
WEBSITE:http://www.thestep.co.uk/
URL:http://www.thestep.co.uk/
CONTACT:020 3302 2412
ORGANIZER;CN="Nell Riches":https://bowesandbounds.org/profile/NellRich
 es
ATTACH;FMTTYPE="image/jpeg":http://storage.ning.com/topology/rest/1.0/
 file/get/2287252158?profile=original
ATTENDEE;ROLE=REQ-PARTICIPANT;PARTSTAT=ACCEPTED;RSVP=TRUE;CN="Nell Ric
 hes":https://bowesandbounds.org/profile/NellRiches
END:VEVENT
END:VCALENDAR
