BEGIN:VCALENDAR
PRODID:NingEventWidget-v1
VERSION:2.0
METHOD:PUBLISH
BEGIN:VTIMEZONE
TZID:Europe/London
X-LIC-LOCATION:Europe/London
BEGIN:DAYLIGHT
TZOFFSETFROM:+0000
TZOFFSETTO:+0100
TZNAME:BST
DTSTART:19700329T010000
RRULE:FREQ=YEARLY;BYMONTH=3;BYDAY=-1SU
END:DAYLIGHT
BEGIN:STANDARD
TZOFFSETFROM:+0100
TZOFFSETTO:+0000
TZNAME:GMT
DTSTART:19701025T020000
RRULE:FREQ=YEARLY;BYMONTH=10;BYDAY=-1SU
END:STANDARD
END:VTIMEZONE
BEGIN:VEVENT
UID:6278630:Event:132685
DTSTAMP:20260424T122800Z
SUMMARY:Asylum in Focus (film festival)
DESCRIPTION:From the 19th to 20th October, we will bring asylum into f
 ocus, taking over Karamel London N22 for a weekend of film. With 3 fea
 ture documentaries, this two-day event will explore stories of the ref
 ugee crisis, asylum and trafficking in film. Friday 19 Oct 7.30pm - E
 ven When I Fall Rating: 12AThe incredible story of Saraswoti and Shee
 tal, trafficking survivors who reclaim skills that once came at a high
  cost: they were slaves in Indian circuses, sold as children. Now free
 d, together they form Nepal's first circus.Screening will be followed 
 by a Q&A with the films’ directors.Directors: Sky Neal, Kate McLarno
 nProducer: Elhum ShakerifarNominations: British Independent Film Award
  for Discovery Awardhttps://www.youtube.com/watch?v=lfBcNUoouCMSaturda
 y 20 Oct 7.00pm - Queens Of SyriaQueens of Syria tells the story of fi
 fty women from Syria, all forced into exile in Jordan, who came togeth
 er in Autumn 2013 to create and perform their own version of the Troja
 n Women, the timeless Ancient Greek tragedy about the plight of women 
 in war.Screening will be followed by a Q&A with the films’ director.
 Director: Yasmin FeddaProducers: Itab Azzam & Georgina PagetExecutive 
 Producers: Charlotte Eager & William StirlingTrailer: https://vimeo.c
 om/86996865Saturday 20 Oct 8.50pm - Another News StoryDebuting directo
 r Orban Wallace’s feature-length work engages the European refugee c
 risis, but the young British director turns the camera lens in a direc
 tion rather different from the rest of the documentary scene investiga
 ting recent events. He trains his penetrating gaze on the journalists 
 sent by their employers to the Mediterranean to cover the unfolding hu
 manitarian tragedy. By juxtaposing the stories of reporters and the ex
 periences of Middle East emigrants, he has fostered a new meta-reading
  of media content. In today’s chaotic era, what is the “who, how, 
 and why” of news spewed forth on world conflicts and crises? “Some
 times you feel you’re making a noise, but not helping really,” lam
 ents Lorenzo over the sensationalized treatment of human misfortune; h
 e’s one of those who, in the months-long hunt for fresh information,
  accepts a nomadic lifestyle. When faced with immeasurable suffering, 
 is it possible to maintain your humanistic sensitivity, or, glazed, do
  you just go after another news story?Another News Story premiered at 
 Karlovy Vary and has since been selected by 15 international festivals
  including, Zurich, IDFA & Iran.Director: Orban WallaceProducers: Orba
 n Wallace, Verity WislockiTrailer: https://vimeo.com/237088920\n\nFor
  more information visit https://bowesandbounds.org/events/asylum-in-fo
 cus-film-festival
DTSTART;TZID=Europe/London:20181019T190000
DTEND;TZID=Europe/London:20181020T230000
CATEGORIES:film, festival, wood, green, causes
LOCATION:Karamel, Wood Green
WEBSITE:https://www.facebook.com/events/1691120591013897/?event_time_i
 d=1691120601013896
URL:https://www.facebook.com/events/1691120591013897/?event_time_id=16
 91120601013896
CONTACT:https://spotlightonasylum.com/
ORGANIZER;CN="Events at Karamel":https://bowesandbounds.org/profile/Ph
 ilSherman
ATTACH;FMTTYPE="image/jpeg":http://storage.ning.com/topology/rest/1.0/
 file/get/2287330307?profile=original
ATTENDEE;ROLE=REQ-PARTICIPANT;PARTSTAT=ACCEPTED;RSVP=TRUE;CN="Events a
 t Karamel":https://bowesandbounds.org/profile/PhilSherman
END:VEVENT
END:VCALENDAR
