BEGIN:VCALENDAR
PRODID:NingEventWidget-v1
VERSION:2.0
METHOD:PUBLISH
BEGIN:VTIMEZONE
TZID:Europe/London
X-LIC-LOCATION:Europe/London
BEGIN:DAYLIGHT
TZOFFSETFROM:+0000
TZOFFSETTO:+0100
TZNAME:BST
DTSTART:19700329T010000
RRULE:FREQ=YEARLY;BYMONTH=3;BYDAY=-1SU
END:DAYLIGHT
BEGIN:STANDARD
TZOFFSETFROM:+0100
TZOFFSETTO:+0000
TZNAME:GMT
DTSTART:19701025T020000
RRULE:FREQ=YEARLY;BYMONTH=10;BYDAY=-1SU
END:STANDARD
END:VTIMEZONE
BEGIN:VEVENT
UID:6278630:Event:65392
DTSTAMP:20260425T181300Z
SUMMARY:Autumn Flower Show and Plant Sale
DESCRIPTION:Muswell Hill and District Horticultural Society  \nAutum
 n Flower Show and Plant Sale\nCome and be dazzled at the array of seas
 onal flowers. Tea and homemade cakes available.\nVenue: North Bank, Pa
 ges Lane, Muswell Hill, N10\nTime: 3pm.\nEntrance: Members free, non-m
 embers 50p\nMore information\nMHDHS Website\nEmail: n10gardeners@goog
 lemail.com\n\n\nFor more information visit https://bowesandbounds.org/
 events/autumn-flower-show-and-plant-sale
DTSTART;TZID=Europe/London:20130914T150000
DTEND;TZID=Europe/London:20130914T170000
CATEGORIES:gardening
LOCATION:MHDHS
WEBSITE:https://maps.google.co.uk/maps?q=North+Bank,+Pages+Lane,+Muswe
 ll+Hill,+N10&oe=utf-8&client=firefox-a&channel=fflb&hnear=North+Bank,+
 28+Page%27s+Ln,+London+N10+1PP,+United+Kingdom&t=m&z=16
URL:https://maps.google.co.uk/maps?q=North+Bank,+Pages+Lane,+Muswell+H
 ill,+N10&oe=utf-8&client=firefox-a&channel=fflb&hnear=North+Bank,+28+P
 age%27s+Ln,+London+N10+1PP,+United+Kingdom&t=m&z=16
CONTACT:
ORGANIZER;CN=Administrator:https://bowesandbounds.org/profile/Administ
 rator
ATTACH;FMTTYPE="image/jpeg":http://storage.ning.com/topology/rest/1.0/
 file/get/2287254853?profile=original
ATTENDEE;ROLE=REQ-PARTICIPANT;PARTSTAT=ACCEPTED;RSVP=TRUE;CN=Administr
 ator:https://bowesandbounds.org/profile/Administrator
END:VEVENT
END:VCALENDAR
