BEGIN:VCALENDAR
PRODID:NingEventWidget-v1
VERSION:2.0
METHOD:PUBLISH
BEGIN:VTIMEZONE
TZID:Europe/London
X-LIC-LOCATION:Europe/London
BEGIN:DAYLIGHT
TZOFFSETFROM:+0000
TZOFFSETTO:+0100
TZNAME:BST
DTSTART:19700329T010000
RRULE:FREQ=YEARLY;BYMONTH=3;BYDAY=-1SU
END:DAYLIGHT
BEGIN:STANDARD
TZOFFSETFROM:+0100
TZOFFSETTO:+0000
TZNAME:GMT
DTSTART:19701025T020000
RRULE:FREQ=YEARLY;BYMONTH=10;BYDAY=-1SU
END:STANDARD
END:VTIMEZONE
BEGIN:VEVENT
UID:6278630:Event:133501
DTSTAMP:20260424T085337Z
SUMMARY:BABA YAGA MEETS THE UNHATCHED CHICKS
DESCRIPTION:Mussorgsky's fabulous piano score is brought to life for c
 hildren using costumes, drama, dance and percussion. A show for all th
 e family. Tickets from billetto £6 adult or child.\n\nFor more inform
 ation visit https://bowesandbounds.org/events/baba-yaga-meets-the-unha
 tched-chicks
DTSTART;TZID=Europe/London:20190113T160000
DTEND;TZID=Europe/London:20190113T170000
CATEGORIES:musical, event, for, children, "1+", and, adults
LOCATION:Highgate United Reformed Church N6 6BA
WEBSITE:
URL:
CONTACT:02088886536
ORGANIZER;CN="Stephen Baron":https://bowesandbounds.org/profile/Stephe
 nBaron
ATTACH;FMTTYPE="image/jpeg":
ATTENDEE;ROLE=REQ-PARTICIPANT;PARTSTAT=ACCEPTED;RSVP=TRUE;CN="Stephen 
 Baron":https://bowesandbounds.org/profile/StephenBaron
END:VEVENT
END:VCALENDAR
