BEGIN:VCALENDAR
PRODID:NingEventWidget-v1
VERSION:2.0
METHOD:PUBLISH
BEGIN:VTIMEZONE
TZID:Europe/London
X-LIC-LOCATION:Europe/London
BEGIN:DAYLIGHT
TZOFFSETFROM:+0000
TZOFFSETTO:+0100
TZNAME:BST
DTSTART:19700329T010000
RRULE:FREQ=YEARLY;BYMONTH=3;BYDAY=-1SU
END:DAYLIGHT
BEGIN:STANDARD
TZOFFSETFROM:+0100
TZOFFSETTO:+0000
TZNAME:GMT
DTSTART:19701025T020000
RRULE:FREQ=YEARLY;BYMONTH=10;BYDAY=-1SU
END:STANDARD
END:VTIMEZONE
BEGIN:VEVENT
UID:6278630:Event:39357
DTSTAMP:20260426T034049Z
SUMMARY:BABY & CHILDREN FIRST AID COURSE
DESCRIPTION:BABY & CHILDREN FIRST AID COURSE: BOOK NOW!\nCost: £25 p
 er person\nBaby First Aid courses are notoriously expensive. I am a lo
 cal mum working with a Children's Centre in Wood Green so we can provi
 de affordable first aid courses for all. Local Mums, Dads, Grandparent
 s and anyone else are welcome (and of course you can bring your little
  ones). There are 16 places available, they will be allocated on a fir
 st come first serve basis. The only way we can run the course so cheap
 ly is by filling the all the places so please book now and pay throu
 gh the secure paypal button on our website.\nWe will be covering: Unc
 onscious casualty management, CPR, Anaphylactic and Electrical, Sh
 ock, Bleeding, Burns, Choking, Fractures, Febrile Seizures, Epi
 lepsy, Asthma\n\nFor more information visit https://bowesandbounds.or
 g/events/baby-children-first-aid-course
DTSTART;TZID=Europe/London:20120630T100000
DTEND;TZID=Europe/London:20120630T140000
CATEGORIES:training, course
LOCATION:Shropshire Hall
WEBSITE:http://maps.google.com/maps?q=N22+6LD&hl=en&sll=37.0625,-95.67
 7068&sspn=45.553578,90.791016&hnear=London+N22+6LD,+United+Kingdom&t=m
 &z=16
URL:http://maps.google.com/maps?q=N22+6LD&hl=en&sll=37.0625,-95.677068
 &sspn=45.553578,90.791016&hnear=London+N22+6LD,+United+Kingdom&t=m&z=1
 6
CONTACT:
ORGANIZER;CN="Emily Wood 'Local Mums And Dads'":https://bowesandbounds
 .org/profile/EmilyWoodLocalMumsAndDads
ATTACH;FMTTYPE="image/jpeg":http://storage.ning.com/topology/rest/1.0/
 file/get/2287233280?profile=original
ATTENDEE;ROLE=REQ-PARTICIPANT;PARTSTAT=ACCEPTED;RSVP=TRUE;CN="Emily Wo
 od 'Local Mums And Dads'":https://bowesandbounds.org/profile/EmilyWood
 LocalMumsAndDads
END:VEVENT
END:VCALENDAR
