BEGIN:VCALENDAR
PRODID:NingEventWidget-v1
VERSION:2.0
METHOD:PUBLISH
BEGIN:VTIMEZONE
TZID:Europe/London
X-LIC-LOCATION:Europe/London
BEGIN:DAYLIGHT
TZOFFSETFROM:+0000
TZOFFSETTO:+0100
TZNAME:BST
DTSTART:19700329T010000
RRULE:FREQ=YEARLY;BYMONTH=3;BYDAY=-1SU
END:DAYLIGHT
BEGIN:STANDARD
TZOFFSETFROM:+0100
TZOFFSETTO:+0000
TZNAME:GMT
DTSTART:19701025T020000
RRULE:FREQ=YEARLY;BYMONTH=10;BYDAY=-1SU
END:STANDARD
END:VTIMEZONE
BEGIN:VEVENT
UID:6278630:Event:36787
DTSTAMP:20260422T051716Z
SUMMARY:Baby First Aid Course
DESCRIPTION:Baby First Aid\nThurs 29th March 5.30-9.30pm or Sat 31st
  March 10am-2pm\n\nShropshire Hall, Gladstone Ave, Noel Park, Wood Gre
 en, N22 6LD\nCost: £25 each\nBaby First Aid courses are notoriously e
 xpensive, but I have found a training company that is going to give us
  a big group discount. Local Mums, Dads, Grandparents and anyone else 
 are welcome (and of course you can bring your little ones). There are 
 16 places available on, they will be allocated on a first come first s
 erve basis. As there is already a lot of interest I advise booking asa
 p. The only way we can run the course so cheaply is by filling the al
 l the places so please book your place now\nTo book your place please
  pay now on our website, through a secure paypal link\nWe will be cove
 ring: Unconscious casualty management, CPR, Anaphylactic and Elec
 trical, Shock, Bleeding, Burns, Choking, Fractures, Febrile Seiz
 ures, Epilepsy, Asthma\n\nFor more information visit https://bowesan
 dbounds.org/events/baby-first-aid-course
DTSTART;TZID=Europe/London:20120520T100000
DTEND;TZID=Europe/London:20120520T140000
CATEGORIES:first, aid, course
LOCATION:Shropshire Hall Children's Centre
WEBSITE:http://maps.google.co.uk/maps?q=N22+6LD&hl=en&sll=51.598267,-0
 .093226&sspn=0.378753,0.877533&hnear=London+N22+6LD,+United+Kingdom&t=
 m&z=15
URL:http://maps.google.co.uk/maps?q=N22+6LD&hl=en&sll=51.598267,-0.093
 226&sspn=0.378753,0.877533&hnear=London+N22+6LD,+United+Kingdom&t=m&z=
 15
CONTACT:
ORGANIZER;CN="Emily Wood 'Local Mums And Dads'":https://bowesandbounds
 .org/profile/EmilyWoodLocalMumsAndDads
ATTACH;FMTTYPE="image/jpeg":http://storage.ning.com/topology/rest/1.0/
 file/get/2287229941?profile=original
ATTENDEE;ROLE=REQ-PARTICIPANT;PARTSTAT=ACCEPTED;RSVP=TRUE;CN="Emily Wo
 od 'Local Mums And Dads'":https://bowesandbounds.org/profile/EmilyWood
 LocalMumsAndDads
END:VEVENT
END:VCALENDAR
