BEGIN:VCALENDAR
PRODID:NingEventWidget-v1
VERSION:2.0
METHOD:PUBLISH
BEGIN:VTIMEZONE
TZID:Europe/London
X-LIC-LOCATION:Europe/London
BEGIN:DAYLIGHT
TZOFFSETFROM:+0000
TZOFFSETTO:+0100
TZNAME:BST
DTSTART:19700329T010000
RRULE:FREQ=YEARLY;BYMONTH=3;BYDAY=-1SU
END:DAYLIGHT
BEGIN:STANDARD
TZOFFSETFROM:+0100
TZOFFSETTO:+0000
TZNAME:GMT
DTSTART:19701025T020000
RRULE:FREQ=YEARLY;BYMONTH=10;BYDAY=-1SU
END:STANDARD
END:VTIMEZONE
BEGIN:VEVENT
UID:6278630:Event:123839
DTSTAMP:20260424T213730Z
SUMMARY:Barnet Band in The Grove
DESCRIPTION:\n\nIf International Yoga Day, taking place on the racecou
 rse, is just a little too energetic for you, and StrEatlife on the Ter
 race is a little too hectic, enjoy the relaxing delights of live, unam
 plified music in the sylvan surroundings of the Grove. Music from the 
 films, classics, traditional - a varied programme for a summer afterno
 on*.\n   Bring a chair, sit on the grass, or just promenade with you
 r ice cream!  *Weather permitting, of course.\nwww.friendsofalexandrap
 ark.org\nLink to all Events coming up in the Park\n\n\n\n\nEmail me wh
 en people comment –\n\n\n\n\nFor more information visit https://bowe
 sandbounds.org/events/barnet-band-in-the-grove-1
DTSTART;TZID=Europe/London:20170618T140000
DTEND;TZID=Europe/London:20170618T153000
CATEGORIES:band, music
LOCATION:Alexandra Park
WEBSITE:http://www.friendsofalexandrapark.org
URL:http://www.friendsofalexandrapark.org
CONTACT:
ORGANIZER;CN="Stephen Middleton":https://bowesandbounds.org/profile/St
 ephenMiddleton
ATTACH;FMTTYPE="image/jpeg":http://storage.ning.com/topology/rest/1.0/
 file/get/2287319341?profile=original
ATTENDEE;ROLE=REQ-PARTICIPANT;PARTSTAT=ACCEPTED;RSVP=TRUE;CN="Stephen 
 Middleton":https://bowesandbounds.org/profile/StephenMiddleton
END:VEVENT
END:VCALENDAR
