BEGIN:VCALENDAR
PRODID:NingEventWidget-v1
VERSION:2.0
METHOD:PUBLISH
BEGIN:VTIMEZONE
TZID:Europe/London
X-LIC-LOCATION:Europe/London
BEGIN:DAYLIGHT
TZOFFSETFROM:+0000
TZOFFSETTO:+0100
TZNAME:BST
DTSTART:19700329T010000
RRULE:FREQ=YEARLY;BYMONTH=3;BYDAY=-1SU
END:DAYLIGHT
BEGIN:STANDARD
TZOFFSETFROM:+0100
TZOFFSETTO:+0000
TZNAME:GMT
DTSTART:19701025T020000
RRULE:FREQ=YEARLY;BYMONTH=10;BYDAY=-1SU
END:STANDARD
END:VTIMEZONE
BEGIN:VEVENT
UID:6278630:Event:101575
DTSTAMP:20260425T233844Z
SUMMARY:Bat Walk in Alexandra Park
DESCRIPTION:Bat numbers in cities seem to be slowly declining, as we s
 eal up the gaps in our house walls and roofs, and knock down old build
 ings. However we still see plenty of bats in Alexandra Park. If you wo
 uld like to see them, and hear a bit about bats - what they eat, where
  they live and what they look like, please join us on Wednesday, Septe
 mber 23rd at 6:45pm.\nYou need to register, so email allyparkn10@gmail
 .com stating how many people you would like to book for, and I will em
 ail back the details of where to meet. The walk is free, and will last
  until about 8pm.\nThis link will take you to a constantly updated lis
 t of Events in Alexandra Park.\nwww.friendsofalexandrapark.org\n\nFor 
 more information visit https://bowesandbounds.org/events/bat-walk-in-a
 lexandra-park
DTSTART;TZID=Europe/London:20150923T184500
DTEND;TZID=Europe/London:20150923T200000
CATEGORIES:nature
LOCATION:Alexandra Park, London
WEBSITE:http://www.friendsofalexandrapark.org
URL:http://www.friendsofalexandrapark.org
CONTACT:
ORGANIZER;CN="Stephen Middleton":https://bowesandbounds.org/profile/St
 ephenMiddleton
ATTACH;FMTTYPE="image/jpeg":http://storage.ning.com/topology/rest/1.0/
 file/get/2287271641?profile=original
ATTENDEE;ROLE=REQ-PARTICIPANT;PARTSTAT=ACCEPTED;RSVP=TRUE;CN="Stephen 
 Middleton":https://bowesandbounds.org/profile/StephenMiddleton
END:VEVENT
END:VCALENDAR
