BEGIN:VCALENDAR
PRODID:NingEventWidget-v1
VERSION:2.0
METHOD:PUBLISH
BEGIN:VTIMEZONE
TZID:Europe/London
X-LIC-LOCATION:Europe/London
BEGIN:DAYLIGHT
TZOFFSETFROM:+0000
TZOFFSETTO:+0100
TZNAME:BST
DTSTART:19700329T010000
RRULE:FREQ=YEARLY;BYMONTH=3;BYDAY=-1SU
END:DAYLIGHT
BEGIN:STANDARD
TZOFFSETFROM:+0100
TZOFFSETTO:+0000
TZNAME:GMT
DTSTART:19701025T020000
RRULE:FREQ=YEARLY;BYMONTH=10;BYDAY=-1SU
END:STANDARD
END:VTIMEZONE
BEGIN:VEVENT
UID:6278630:Event:138162
DTSTAMP:20260422T221418Z
SUMMARY:SORRY FULLY BOOKED Bat Watch
DESCRIPTION:SORRY FULLY BOOKED A chance to see bats in the Park. We wi
 ll hear about their habits, their size and some of the myths surroundi
 ng these flying mammals.\nAre they blind? Can they get caught up in yo
 ur hair? Do they suck blood?\nWe will be provided with Bat Detectors t
 o help us locate the creatures and we will see bats - certainly pipist
 relles and perhaps others....\nBooking required, contact AllyParkN10@g
 mail.com giving numbers of adults and children coming and also a conta
 ct number in case the event is cancelled due to bad weather. We will g
 ive you the meeting place.\n\nFor more information visit https://bowes
 andbounds.org/events/bat-watch-1
DTSTART;TZID=Europe/London:20190909T191500
DTEND;TZID=Europe/London:20190909T203000
CATEGORIES:bat, kids, childeren
LOCATION:Alexandra Park
WEBSITE:http://www.friendsofalexandrapark.org
URL:http://www.friendsofalexandrapark.org
CONTACT:
ORGANIZER;CN="Stephen Middleton":https://bowesandbounds.org/profile/St
 ephenMiddleton
ATTACH;FMTTYPE="image/jpeg":https://storage.ning.com/topology/rest/1.0
 /file/get/3515999349?profile=original
ATTENDEE;ROLE=REQ-PARTICIPANT;PARTSTAT=ACCEPTED;RSVP=TRUE;CN="Stephen 
 Middleton":https://bowesandbounds.org/profile/StephenMiddleton
END:VEVENT
END:VCALENDAR
