BEGIN:VCALENDAR
PRODID:NingEventWidget-v1
VERSION:2.0
METHOD:PUBLISH
BEGIN:VTIMEZONE
TZID:Europe/London
X-LIC-LOCATION:Europe/London
BEGIN:DAYLIGHT
TZOFFSETFROM:+0000
TZOFFSETTO:+0100
TZNAME:BST
DTSTART:19700329T010000
RRULE:FREQ=YEARLY;BYMONTH=3;BYDAY=-1SU
END:DAYLIGHT
BEGIN:STANDARD
TZOFFSETFROM:+0100
TZOFFSETTO:+0000
TZNAME:GMT
DTSTART:19701025T020000
RRULE:FREQ=YEARLY;BYMONTH=10;BYDAY=-1SU
END:STANDARD
END:VTIMEZONE
BEGIN:VEVENT
UID:6278630:Event:132489
DTSTAMP:20260424T142308Z
SUMMARY:Bat Watch
DESCRIPTION:If you haven't seen bats, or have seen them before but jus
 t enjoy watching their incredible aerial acrobatics, please join me on
  Monday evening September 17th, at 6.45pm. You should have a good view
  of the bats before it gets really dark, and after that you can listen
  in to their echolocation 'squeaks' with bat detectors. You will also 
 learn a bit about bats - what they eat, where they live and what they 
 look like. Numbers are limited so you need to register, by emailing 
 allyparkn10@gmail.com stating how many people you would like to book 
 for, and we will email back the details of where to meet. Please inclu
 de a phone number so that we can let you know if we have to cancel bec
 ause of bad weather. The walk is free, and will last until about 8.00
  pm.\nGordon Hutchinson\n \nwww.friendsofalexandrapark.org\nLink to a
 ll Events coming up in the Park\n\n\nFor more information visit https:
 //bowesandbounds.org/events/bat-watch
DTSTART;TZID=Europe/London:20180917T184500
DTEND;TZID=Europe/London:20180917T200000
CATEGORIES:family, kids, bats
LOCATION:Alexandra Park
WEBSITE:http://www.friendsofalexandrapark.org
URL:http://www.friendsofalexandrapark.org
CONTACT:
ORGANIZER;CN="Stephen Middleton":https://bowesandbounds.org/profile/St
 ephenMiddleton
ATTACH;FMTTYPE="image/jpeg":http://storage.ning.com/topology/rest/1.0/
 file/get/2287330778?profile=original
ATTENDEE;ROLE=REQ-PARTICIPANT;PARTSTAT=ACCEPTED;RSVP=TRUE;CN="Stephen 
 Middleton":https://bowesandbounds.org/profile/StephenMiddleton
END:VEVENT
END:VCALENDAR
