BEGIN:VCALENDAR
PRODID:NingEventWidget-v1
VERSION:2.0
METHOD:PUBLISH
BEGIN:VTIMEZONE
TZID:Europe/London
X-LIC-LOCATION:Europe/London
BEGIN:DAYLIGHT
TZOFFSETFROM:+0000
TZOFFSETTO:+0100
TZNAME:BST
DTSTART:19700329T010000
RRULE:FREQ=YEARLY;BYMONTH=3;BYDAY=-1SU
END:DAYLIGHT
BEGIN:STANDARD
TZOFFSETFROM:+0100
TZOFFSETTO:+0000
TZNAME:GMT
DTSTART:19701025T020000
RRULE:FREQ=YEARLY;BYMONTH=10;BYDAY=-1SU
END:STANDARD
END:VTIMEZONE
BEGIN:VEVENT
UID:6278630:Event:42151
DTSTAMP:20260419T164846Z
SUMMARY:\"Bathe in Beethoven\" Musical performance
DESCRIPTION:\n\n\n\nFor more information visit https://bowesandbounds.
 org/events/bathe-in-beethoven-musical-performance
DTSTART;TZID=Europe/London:20120701T110000
DTEND;TZID=Europe/London:20120701T120000
CATEGORIES:music
LOCATION:St James School
WEBSITE:https://maps.google.co.uk/maps?q=St+James+CofE+Primary+School+
 Woodside+Avenue+London+N10+3JA&hl=en&ll=51.587323,-0.150568&spn=0.0073
 73,0.01929&hq=St+James+CofE+Primary+School&hnear=Woodside+Ave,+London+
 Borough+of+Haringey,+London+N10,+United+Kingdom&t=m&z=16&iwloc=A
URL:https://maps.google.co.uk/maps?q=St+James+CofE+Primary+School+Wood
 side+Avenue+London+N10+3JA&hl=en&ll=51.587323,-0.150568&spn=0.007373,0
 .01929&hq=St+James+CofE+Primary+School&hnear=Woodside+Ave,+London+Boro
 ugh+of+Haringey,+London+N10,+United+Kingdom&t=m&z=16&iwloc=A
CONTACT:
ORGANIZER;CN="Richard McKeever":https://bowesandbounds.org/profile/3hw
 xkqhdde8gc
ATTACH;FMTTYPE="image/jpeg":http://storage.ning.com/topology/rest/1.0/
 file/get/2287235832?profile=original
ATTENDEE;ROLE=REQ-PARTICIPANT;PARTSTAT=ACCEPTED;RSVP=TRUE;CN="Richard 
 McKeever":https://bowesandbounds.org/profile/3hwxkqhdde8gc
END:VEVENT
END:VCALENDAR
