BEGIN:VCALENDAR
PRODID:NingEventWidget-v1
VERSION:2.0
METHOD:PUBLISH
BEGIN:VTIMEZONE
TZID:Europe/London
X-LIC-LOCATION:Europe/London
BEGIN:DAYLIGHT
TZOFFSETFROM:+0000
TZOFFSETTO:+0100
TZNAME:BST
DTSTART:19700329T010000
RRULE:FREQ=YEARLY;BYMONTH=3;BYDAY=-1SU
END:DAYLIGHT
BEGIN:STANDARD
TZOFFSETFROM:+0100
TZOFFSETTO:+0000
TZNAME:GMT
DTSTART:19701025T020000
RRULE:FREQ=YEARLY;BYMONTH=10;BYDAY=-1SU
END:STANDARD
END:VTIMEZONE
BEGIN:VEVENT
UID:6278630:Event:117548
DTSTAMP:20260419T140636Z
SUMMARY:BATTLE BUS SPECIAL EVENT: From Tottenham to the Trenches
DESCRIPTION:Come to Bruce Castle to see the London Transport Museum br
 inging an original and restored 1WW Battle Bus to mark the launch of t
 he new exhibition 'FROM TOTTENHAM TO THE TRENCHES'. This B-type bus wa
 s made in nearby Walthamstow.\n\n\n\n\n\n\n\n'From Tottenham to the Tr
 enches' is a community exhibition co-curated by young volunteers and s
 tudents from Northumberland Park Community School to commemorate the c
 entenary of the Battle of the Somme in 1916.\nWhat’s on?  · Jump o
 n board the London Transport Museum’s restored First World War B-typ
 e bus  · Hear pop up performances of original poetry created by young
  volunteers  · Meet characters from the First World War  · Handle ob
 jects and try on replica First World War uniforms with Antiques Roadsh
 ow expert Andy Robertshaw · Find out more about the work of the Commo
 nwealth War Graves Commission and London Transport Museum’s Battle B
 us project.\nYou can also take part in Battle Bus inspired free family
  activities, just drop in between 1.30 - 4pm:\nMake your very own Batt
 le Bus – the London bus that went to war.\nCreate a collage - cut, c
 olour and stick to create your own Battle Bus collage.\nHere's a link 
 to more information about the LTM Battle Bus project:https://twitter.c
 om/ltmbattlebus/status/775639764280217600\n\n\n\n\n\n\n\n\n\n\nFor mor
 e information visit https://bowesandbounds.org/events/battle-bus-speci
 al-event-from-tottenham-to-the-trenches
DTSTART;TZID=Europe/London:20161023T130000
DTEND;TZID=Europe/London:20161023T170000
CATEGORIES:special, event, local, history, exhibition, family, day, ou
 t
LOCATION:Bruce Castle Museum
WEBSITE:http://haringey.gov.uk/brucecastlemuseum
URL:http://haringey.gov.uk/brucecastlemuseum
CONTACT:020 8808 8772
ORGANIZER;CN="Deborah Hedgecock":https://bowesandbounds.org/profile/De
 borahHedgecock
ATTACH;FMTTYPE="image/jpeg":http://storage.ning.com/topology/rest/1.0/
 file/get/2287314663?profile=original
ATTENDEE;ROLE=REQ-PARTICIPANT;PARTSTAT=ACCEPTED;RSVP=TRUE;CN="Deborah 
 Hedgecock":https://bowesandbounds.org/profile/DeborahHedgecock
END:VEVENT
END:VCALENDAR
