BEGIN:VCALENDAR
PRODID:NingEventWidget-v1
VERSION:2.0
METHOD:PUBLISH
BEGIN:VTIMEZONE
TZID:Europe/London
X-LIC-LOCATION:Europe/London
BEGIN:DAYLIGHT
TZOFFSETFROM:+0000
TZOFFSETTO:+0100
TZNAME:BST
DTSTART:19700329T010000
RRULE:FREQ=YEARLY;BYMONTH=3;BYDAY=-1SU
END:DAYLIGHT
BEGIN:STANDARD
TZOFFSETFROM:+0100
TZOFFSETTO:+0000
TZNAME:GMT
DTSTART:19701025T020000
RRULE:FREQ=YEARLY;BYMONTH=10;BYDAY=-1SU
END:STANDARD
END:VTIMEZONE
BEGIN:VEVENT
UID:6278630:Event:195745
DTSTAMP:20260422T175736Z
SUMMARY:BBC London Radio Christmas Doorstep Singalong in Bounds and Bo
 wes
DESCRIPTION:As we can't have our normal Friends of the Green Bounds Gr
 een (FGBG) carols on the Green this year due to COVID, we campaigned (
 along with other groups) for a radio station to broadcast one and BBC 
 London said yes! They'll be a bit different this year as we'll need t
 o do them from our doorsteps, but here's the plan!\r\n \r\nPlease sig
 n-up to our facebook event: https://fb.me/e/53iFRDXsf\r\n \r\nJoin y
 our neighbours from your doorstep as we sing our hearts out together!\
 r\nOur local group (separate from the BBC) will also be raising funds 
 for Mind to help with the post-covid mental health crisis. If you can 
 donate, please view:\r\nhttps://www.justgiving.com/xmas2020singalong\r
 \nOn the day, go to your doorstep and tune into BBC Radio London on 94
 .9 FM in London or search for BBC London on BBC Sounds or Sky 0152, Fr
 eesat 718, Freeview 721, Virgin 937\r\nAnd don't worry if you don't li
 ve in Bounds Green or Bowes Park - you can make this happen anywhere, 
 so please join us - the more the merrier!\n\nFor more information visi
 t https://bowesandbounds.org/events/bbc-london-radio-christmas-doorste
 p-singalong-in-bounds-and-bowes
DTSTART;TZID=Europe/London:20201216T190000
DTEND;TZID=Europe/London:20201216T193000
CATEGORIES:xmas, singalong
LOCATION:Online
WEBSITE:https://fgbg.org.uk/
URL:https://fgbg.org.uk/
CONTACT:
ORGANIZER;CN="Daniel Cowan":https://bowesandbounds.org/profile/DanielC
 owan
ATTACH;FMTTYPE="image/jpeg":
ATTENDEE;ROLE=REQ-PARTICIPANT;PARTSTAT=ACCEPTED;RSVP=TRUE;CN="Daniel C
 owan":https://bowesandbounds.org/profile/DanielCowan
END:VEVENT
END:VCALENDAR
