BEGIN:VCALENDAR
PRODID:NingEventWidget-v1
VERSION:2.0
METHOD:PUBLISH
BEGIN:VTIMEZONE
TZID:Europe/London
X-LIC-LOCATION:Europe/London
BEGIN:DAYLIGHT
TZOFFSETFROM:+0000
TZOFFSETTO:+0100
TZNAME:BST
DTSTART:19700329T010000
RRULE:FREQ=YEARLY;BYMONTH=3;BYDAY=-1SU
END:DAYLIGHT
BEGIN:STANDARD
TZOFFSETFROM:+0100
TZOFFSETTO:+0000
TZNAME:GMT
DTSTART:19701025T020000
RRULE:FREQ=YEARLY;BYMONTH=10;BYDAY=-1SU
END:STANDARD
END:VTIMEZONE
BEGIN:VEVENT
UID:6278630:Event:208424
DTSTAMP:20260422T164515Z
SUMMARY:Bowes Park Folk Club with Pete Morton, Thur 7th Jan 8pm
DESCRIPTION:Event by Bowes Park Folk Club and singer-songwriter Pete M
 orton Pete will play songs from his latest album 'A Golden Thread' - h
 ave a preview listen here: https://www.petemorton.com/#Listen\nOnline:
  facebook.com\nThursday 7th January at 8pm Price: free All welcome, no
  Facebook account necessary\nJoin us on our BPFC homepage for this liv
 e music event starting at 8pm on 7 January at https://www.Facebook.com
 /BowesParkFolkClub\n\nFor more information visit https://bowesandbound
 s.org/events/bc7
DTSTART;TZID=Europe/London:20210107T200000
DTEND;TZID=Europe/London:20210107T213000
CATEGORIES:music
LOCATION:Online
WEBSITE:
URL:
CONTACT:07774 147296
ORGANIZER;CN="Mary Blake":https://bowesandbounds.org/profile/MaryBlake
ATTACH;FMTTYPE="image/jpeg":https://storage.ning.com/topology/rest/1.0
 /file/get/8391234666?profile=original
ATTENDEE;ROLE=REQ-PARTICIPANT;PARTSTAT=ACCEPTED;RSVP=TRUE;CN="Mary Bla
 ke":https://bowesandbounds.org/profile/MaryBlake
END:VEVENT
END:VCALENDAR
