BEGIN:VCALENDAR
PRODID:NingEventWidget-v1
VERSION:2.0
METHOD:PUBLISH
BEGIN:VTIMEZONE
TZID:Europe/London
X-LIC-LOCATION:Europe/London
BEGIN:DAYLIGHT
TZOFFSETFROM:+0000
TZOFFSETTO:+0100
TZNAME:BST
DTSTART:19700329T010000
RRULE:FREQ=YEARLY;BYMONTH=3;BYDAY=-1SU
END:DAYLIGHT
BEGIN:STANDARD
TZOFFSETFROM:+0100
TZOFFSETTO:+0000
TZNAME:GMT
DTSTART:19701025T020000
RRULE:FREQ=YEARLY;BYMONTH=10;BYDAY=-1SU
END:STANDARD
END:VTIMEZONE
BEGIN:VEVENT
UID:6278630:Event:73378
DTSTAMP:20260426T050749Z
SUMMARY:BEGINNERS AND IMPROVERS/INTERMEDIATES SALSA COURSES 2014!!!!
DESCRIPTION:SALSA WITH SUREKA presents exciting and unique 4-week Beg
 inners and Improvers/Intermediates Salsa Courses.\nBook early to avoid
  disappointment!\n \nWe offer fun and friendly classes to give you th
 e confidence to step onto the dancefloor. Get fit, make new friends an
 d develop a new passion!\nPLUS: Join us for drinks after class and Sa
 lsa parties in authentic Salsa Clubs every month! \n\nBeginners Salsa
  Course\nYou will learn the basic steps of Salsa, the rhythm of Salsa 
 music, the techniques of leading and following and the style and body 
 language to look good and feel confident on the dance floor. \nPrereq
 uisite:  No previous dance experience necessary and those with 2-left
 -feet are warmly welcomed! \n \nImprovers/Intermediates Salsa Course
 \nNow that we've got you dancing, you will learn new routines using th
 e basic steps you've mastered. There will be greater emphasis on the t
 echniques of leading and following, musical interpretation and styling
  so you can start to really express yourself on the dance floor. \nPr
 erequisite:  Completion of a minimum of 3x 4-Week Beginners Salsa Cou
 rses or equivalent experience. Individual evaluations available upon r
 equest. \n \nCOURSE DATESMarch 12, March 19, March 26, April 2TIMESB
 eginners: 7pm-8pmImprovers/ Intermediates: 8.15pm-9.15pm\nVENUE\nThe H
 ub, 128 Myddleton Road, London N22 8NQ PRICE\n£25 in Advance / £30 o
 n the Door\nfor 4-week course To book/ for more info, call Sureka on 0
 7984 136 961 or email surekaf@gmail.com.\n\nFor more information visit
  https://bowesandbounds.org/events/beginners-and-improvers-intermediat
 es-salsa-courses-2014
DTSTART;TZID=Europe/London:20140312T190000
DTEND;TZID=Europe/London:20140402T211500
CATEGORIES:fun, salsa, dance, "salsa classes", "learn salsa", "latin d
 ance", "salsa courses", "cuban music", health, fitness, social, "wood 
 green", "bounds green", "bowes park", haringey, "turnpike lane"
LOCATION:The Hub, 128 Myddleton Road, N22 8NQ
WEBSITE:http://www.youtube.com/watch?v=scq0uQl2HWs
URL:http://www.youtube.com/watch?v=scq0uQl2HWs
CONTACT:07984 136 961
ORGANIZER;CN="Sureka Fernando":https://bowesandbounds.org/profile/Sure
 kaFernando
ATTACH;FMTTYPE="image/jpeg":http://storage.ning.com/topology/rest/1.0/
 file/get/2287262326?profile=original
ATTENDEE;ROLE=REQ-PARTICIPANT;PARTSTAT=ACCEPTED;RSVP=TRUE;CN="Mary Swe
 eney":https://bowesandbounds.org/profile/MarySweeney
ATTENDEE;ROLE=REQ-PARTICIPANT;PARTSTAT=ACCEPTED;RSVP=TRUE;CN="Sureka F
 ernando":https://bowesandbounds.org/profile/SurekaFernando
END:VEVENT
END:VCALENDAR
