BEGIN:VCALENDAR
PRODID:NingEventWidget-v1
VERSION:2.0
METHOD:PUBLISH
BEGIN:VTIMEZONE
TZID:Europe/London
X-LIC-LOCATION:Europe/London
BEGIN:DAYLIGHT
TZOFFSETFROM:+0000
TZOFFSETTO:+0100
TZNAME:BST
DTSTART:19700329T010000
RRULE:FREQ=YEARLY;BYMONTH=3;BYDAY=-1SU
END:DAYLIGHT
BEGIN:STANDARD
TZOFFSETFROM:+0100
TZOFFSETTO:+0000
TZNAME:GMT
DTSTART:19701025T020000
RRULE:FREQ=YEARLY;BYMONTH=10;BYDAY=-1SU
END:STANDARD
END:VTIMEZONE
BEGIN:VEVENT
UID:6278630:Event:104462
DTSTAMP:20260424T090005Z
SUMMARY:Berkeley Homes Trent Park Exhibition & Consultation
DESCRIPTION:\n\n\n\nBy CarFrom the M25 exit at junction 24 and take A1
 11 south to London.  After 3 miles, Chalk Lane is on the right, off t
 he main Cockfosters Road (A111), near to Cockfosters tube station on t
 he Piccadilly Line.  On entering Chalk Lane, you will first pass Cock
 fosters Cricket Club, then Cockfosters Football Club, then the clubhou
 se, alongside a car park. Chalk Lane should be entered from the Cockfo
 sters Station End, as there is now restricted access from the northern
  end.By TrainNearest Station: Cockfosters Tube Station, Piccadilly Lin
 e.From the station follow Chalk Lane past Cockfosters Cricket Club, th
 e entrance to Cockfosters Football Club. The Clubhouse is on the right
 .\n\nFor more information visit https://bowesandbounds.org/events/berk
 eley-homes-trent-park-exhibition-consultation
DTSTART;TZID=Europe/London:20151205T090000
DTEND;TZID=Europe/London:20151207T193000
CATEGORIES:consultation
LOCATION:Southgate Compton Cricket Club
WEBSITE:http://www.southgatecompton.com/also-how-to-find-us.html
URL:http://www.southgatecompton.com/also-how-to-find-us.html
CONTACT:
ORGANIZER;CN="Donald Smith":https://bowesandbounds.org/profile/DonaldS
 mith
ATTACH;FMTTYPE="image/jpeg":
ATTENDEE;ROLE=REQ-PARTICIPANT;PARTSTAT=ACCEPTED;RSVP=TRUE;CN="Donald S
 mith":https://bowesandbounds.org/profile/DonaldSmith
END:VEVENT
END:VCALENDAR
