BEGIN:VCALENDAR
PRODID:NingEventWidget-v1
VERSION:2.0
METHOD:PUBLISH
BEGIN:VTIMEZONE
TZID:Europe/London
X-LIC-LOCATION:Europe/London
BEGIN:DAYLIGHT
TZOFFSETFROM:+0000
TZOFFSETTO:+0100
TZNAME:BST
DTSTART:19700329T010000
RRULE:FREQ=YEARLY;BYMONTH=3;BYDAY=-1SU
END:DAYLIGHT
BEGIN:STANDARD
TZOFFSETFROM:+0100
TZOFFSETTO:+0000
TZNAME:GMT
DTSTART:19701025T020000
RRULE:FREQ=YEARLY;BYMONTH=10;BYDAY=-1SU
END:STANDARD
END:VTIMEZONE
BEGIN:VEVENT
UID:6278630:Event:111589
DTSTAMP:20260422T074803Z
SUMMARY:BG Bowls and Tennis Club Open Day
DESCRIPTION:Bounds Green Bowls and Tennis Club are having their 2016 O
 pen Day on SATURDAY 14TH MAY, 9am to 4pm. Come and try tennis with ou
 r new coach Nick, (9am to 1pm), come and try bowls on our beautiful gr
 een from 11am, or explore our social side with Snooker and Table Tenni
 s. There is a wet weather plan, so come along even if it rains, we are
  an indoor bowls club too. A friendly welcome awaits you! Bar and refr
 eshments available. \n\nFor more information visit https://bowesandbo
 unds.org/events/bg-bowls-and-tennis-club-open-day
DTSTART;TZID=Europe/London:20160514T090000
DTEND;TZID=Europe/London:20160514T160000
CATEGORIES:sports, club, open, day
LOCATION:Entrance from Brownlow road or by number 20 Goring Road
WEBSITE:http://bgbtc.co.uk
URL:http://bgbtc.co.uk
CONTACT:02088899850
ORGANIZER;CN="K Walsh":https://bowesandbounds.org/profile/KWalsh
ATTACH;FMTTYPE="image/jpeg":http://storage.ning.com/topology/rest/1.0/
 file/get/2287307679?profile=original
ATTENDEE;ROLE=REQ-PARTICIPANT;PARTSTAT=ACCEPTED;RSVP=TRUE;CN="K Walsh"
 :https://bowesandbounds.org/profile/KWalsh
END:VEVENT
END:VCALENDAR
