BEGIN:VCALENDAR
PRODID:NingEventWidget-v1
VERSION:2.0
METHOD:PUBLISH
BEGIN:VTIMEZONE
TZID:Europe/London
X-LIC-LOCATION:Europe/London
BEGIN:DAYLIGHT
TZOFFSETFROM:+0000
TZOFFSETTO:+0100
TZNAME:BST
DTSTART:19700329T010000
RRULE:FREQ=YEARLY;BYMONTH=3;BYDAY=-1SU
END:DAYLIGHT
BEGIN:STANDARD
TZOFFSETFROM:+0100
TZOFFSETTO:+0000
TZNAME:GMT
DTSTART:19701025T020000
RRULE:FREQ=YEARLY;BYMONTH=10;BYDAY=-1SU
END:STANDARD
END:VTIMEZONE
BEGIN:VEVENT
UID:6278630:Event:240216
DTSTAMP:20260421T171214Z
SUMMARY:BGBTC Jubilee Party 2nd June BBQ &amp; Live Music - tickets av
 ailable!
DESCRIPTION:Bounds Green Bowls and Tennis Club are making a whole day 
 of it for the Queens Platinum Jubilee, on the 2nd of June from 10am to
  Fireworks at 10.30pm. Day features BBQ, face-painting, fun and games 
 on the tennis courts and bowling green for all to try, cream teas, our
  reasonably priced bar will be open from 11am, Raffle, Kids fancy dres
 s comp.  In the evening, live music from Soulfools and music and danc
 ing til late. Local community very much invited!\nSee poster below for
  all the details! Kids Free, Over 13s and Adults, £5, pop into the cl
 ub from 6pm any day for your ticket in advance, some will be available
  on the day. \n\nFor more information visit https://bowesandbounds.or
 g/events/bgbtc-jubilee-party-2nd-june-bbq-amp-live-music-tickets-avail
 able
DTSTART;TZID=Europe/London:20220602T000000
DTEND;TZID=Europe/London:20220602T235900
CATEGORIES:jubilee, event
LOCATION:Bounds Green Bowls and Tennis Club, walking entrance Brownlow
  Road, or Goring Road Alley by 20 Goring Road if driving.
WEBSITE:https://bgbtc.co.uk/home/location-and-contact/
URL:https://bgbtc.co.uk/home/location-and-contact/
CONTACT:02088899850
ORGANIZER:Bounds Green Bowls and Tennis Club
ATTACH;FMTTYPE="image/jpeg":
ATTENDEE;ROLE=REQ-PARTICIPANT;PARTSTAT=ACCEPTED;RSVP=TRUE;CN="K Walsh"
 :https://bowesandbounds.org/profile/KWalsh
END:VEVENT
END:VCALENDAR
