BEGIN:VCALENDAR
PRODID:NingEventWidget-v1
VERSION:2.0
METHOD:PUBLISH
BEGIN:VTIMEZONE
TZID:Europe/London
X-LIC-LOCATION:Europe/London
BEGIN:DAYLIGHT
TZOFFSETFROM:+0000
TZOFFSETTO:+0100
TZNAME:BST
DTSTART:19700329T010000
RRULE:FREQ=YEARLY;BYMONTH=3;BYDAY=-1SU
END:DAYLIGHT
BEGIN:STANDARD
TZOFFSETFROM:+0100
TZOFFSETTO:+0000
TZNAME:GMT
DTSTART:19701025T020000
RRULE:FREQ=YEARLY;BYMONTH=10;BYDAY=-1SU
END:STANDARD
END:VTIMEZONE
BEGIN:VEVENT
UID:6278630:Event:240358
DTSTAMP:20260421T170807Z
SUMMARY:BGBTC Jubilee Party
DESCRIPTION:Last few remaining tickets available behind the bar in the
  clubhouse.  From 10am with the trooping of the Colour on the big scr
 een to the fireworks at 10.30pm with loads in between it is the place 
 to be on the 2nd of June! Tickets only £5.00 children under 12 free. 
 Good value BBQ available Live music at 6pm. , raffle, fancy dress and
  lost of games and prizes to be one. Bring cash on the day!\n\nFor mor
 e information visit https://bowesandbounds.org/events/bgbtc-jubilee-pa
 rty
DTSTART;TZID=Europe/London:20220602T210000
DTEND;TZID=Europe/London:20220602T230000
CATEGORIES:street, party
LOCATION:Bounds Green Bowls and Tennis Club
WEBSITE:
URL:
CONTACT:
ORGANIZER;CN="Amelia Lawrence":https://bowesandbounds.org/profile/Amel
 iaLawrence
ATTACH;FMTTYPE="image/jpeg":https://storage.ning.com/topology/rest/1.0
 /file/get/10519426666?profile=original
ATTENDEE;ROLE=REQ-PARTICIPANT;PARTSTAT=ACCEPTED;RSVP=TRUE;CN="Amelia L
 awrence":https://bowesandbounds.org/profile/AmeliaLawrence
END:VEVENT
END:VCALENDAR
